Workbook
Name e申請書Version: 項目一覧!$C$348
Name その他の区域1: 項目一覧!$C$80
Name その他の区域2: 項目一覧!$C$81
Name その他の区域3: 項目一覧!$C$82
Name その他の区域4: 項目一覧!$C$83
Name その他の区域5: 項目一覧!$C$84
Name その他の区域6: 項目一覧!$C$85
Name その他必要な事項: 項目一覧!$C$166
Name その他必要な事項4_1: 項目一覧②!$F$61
Name その他必要な事項4_2: 項目一覧②!$F$311
Name その他必要な事項4_3: 項目一覧②!$F$561
Name その他必要な事項5_1_1: 項目一覧②!$F$88
Name その他必要な事項5_1_2: 項目一覧②!$F$115
Name その他必要な事項5_1_3: 項目一覧②!$F$142
Name その他必要な事項5_1_4: 項目一覧②!$F$169
Name その他必要な事項5_1_5: 項目一覧②!$F$196
Name その他必要な事項5_1_6: 項目一覧②!$F$223
Name その他必要な事項5_1_7: 項目一覧②!$F$250
Name その他必要な事項5_2_1: 項目一覧②!$F$338
Name その他必要な事項5_2_2: 項目一覧②!$F$365
Name その他必要な事項5_2_3: 項目一覧②!$F$392
Name その他必要な事項5_2_4: 項目一覧②!$F$419
Name その他必要な事項5_2_5: 項目一覧②!$F$446
Name その他必要な事項5_2_6: 項目一覧②!$F$473
Name その他必要な事項5_2_7: 項目一覧②!$F$500
Name その他必要な事項5_3_1: 項目一覧②!$F$588
Name その他必要な事項5_3_2: 項目一覧②!$F$615
Name その他必要な事項5_3_3: 項目一覧②!$F$642
Name その他必要な事項5_3_4: 項目一覧②!$F$669
Name その他必要な事項5_3_5: 項目一覧②!$F$696
Name その他必要な事項5_3_6: 項目一覧②!$F$723
Name その他必要な事項5_3_7: 項目一覧②!$F$750
Name プログラム認定区分6_1: 項目一覧②!$F$768
Name プログラム認定区分6_2: 項目一覧②!$F$789
Name プログラム認定区分6_3: 項目一覧②!$F$810
Name プログラム認定区分その他6_1: 項目一覧②!$F$770
Name プログラム認定区分その他6_2: 項目一覧②!$F$791
Name プログラム認定区分その他6_3: 項目一覧②!$F$812
Name プログラム名称6_1: 項目一覧②!$F$767
Name プログラム名称6_2: 項目一覧②!$F$788
Name プログラム名称6_3: 項目一覧②!$F$809
Name メーカー会社名: 項目一覧!$C$2
Name メーカー管理番号: 項目一覧!$C$341
Name メーカー事業所: 項目一覧!$C$3
Name メーカー申請担当メールアドレス: 項目一覧!$C$170
Name 一部構造1: 項目一覧!$C$149
Name 一部構造2: 項目一覧!$C$150
Name 一部構造3: 項目一覧!$C$151
Name 一面備考: 項目一覧!$C$66
Name 延べ面積6_1: 項目一覧②!$F$753
Name 延べ面積6_2: 項目一覧②!$F$774
Name 延べ面積6_3: 項目一覧②!$F$795
Name 延べ面積EV昇降路申請以外: 項目一覧!$C$335
Name 延べ面積EV昇降路申請合計: 項目一覧!$C$336
Name 延べ面積EV昇降路申請部分: 項目一覧!$C$334
Name 延べ面積共同住宅共用合計: 項目一覧!$C$129
Name 延べ面積共同住宅共用申請部分: 項目一覧!$C$127
Name 延べ面積共同住宅共用申請部分以外: 項目一覧!$C$128
Name 延べ面積建築物全体申請以外: 項目一覧!$C$122
Name 延べ面積建築物全体申請合計: 項目一覧!$C$123

Sheet 初期画面
A4: 建築確認申請書
A7: 46327
A8: 更新履歴はこちら
B11: このEXCEL表により株式会社東日本住宅評価センターへの提出図書を作成（印刷）することができます。
A16: 作業メニュー
B20: 内容に関する質問及びご要望に関しては、以下の問合せ先にてお受けいたします。 尚、このEXCEL表は公開時点で最新のウイルス対策ソフトで確認しておりますが、このソフトを使用したことによる全ての損害等に対し株式会社東日本住宅評価センターは一切責任を負いません。
B25: 各シートの編集を行った場合はサポートの対象外となりますので、ご了承ください。
B35: 株式会社東日本住宅評価センター
A36: 株式会社東日本住宅評価センター
A37: http://www.e-hyoka.co.jp

Sheet 作業メニュー
A1: 作業メニュー | AG1: 初期画面
B3: １．データ入力
C4: 「確認申請書入力」画面にて申請内容を入力してください。建築主が２以上の場合は、「他の建築主入力」画面にて追加入力してください。
C5: 「確認申請書（注記）」をご覧ください。
C6: 「代理者」「設計者」「監理者」の担当者を「担当者登録」に、「構造･設備設計者」を「構造･設備担当者登録」に、「施工者」を「施工者登録」に、それぞれ入力していただくと、一覧から選択できるようになります。
D9: 確認申請書等入力 | N9: 確認申請書（注記） | Y9: 担当者登録 | AB9: （代理者、設計者、監理者欄に表示されます）
D10: 他の建築主入力 | Y10: 構造･設備担当者登録
D11: 建築物別概要（追加）入力 | N11: 建築物独立部分別概要（追加）入力 | Y11: 施工者登録
B13: ２．帳票印刷 （追加入力項目あり） | M13: 計画通知の場合は✅チェックして下さい | AM13: FALSE
C14: 印刷対象の帳票を指定し、印刷内容を表示して確認後に印刷してください。
C15: 各帳票は、「確認申請書（建築）入力画面」にて入力した内容を反映しておりますが、帳票によって追加で入力する項目がございます。
C16: 帳票に直接上書きすることも可能です。
C18: (1) | D18: =IF(AM13=TRUE, "計画通知書（建築物）", "確認申請書（建築物）") -> 確認申請書（建築物） | O18: (8) | P18: =IF(AM13=TRUE, "計画変更通知書（昇降機）", "計画変更確認申請書（昇降機）") -> 計画変更確認申請書（昇降機） | AB18: (17) | AC18: 仮使用認定申請書
D19: 別紙（他の建築主） | P19: 別紙（他の設置者） | AD19: （注記）
D20: 別紙（昇降機の概要） | Q20: （注記）
D21: 建築物別概要（追加） | AB21: (18) | AC21: 軽微な変更説明書
D22: 建築物独立部分別概要（追加） | O22: (9) | P22: =IF(AM13=TRUE, "計画変更通知書", "計画変更確認申請書") -> 計画変更確認申請書
E23: （注記） | P23: （昇降機以外の建築設備） | AB23: (19) | AC23: =IF(AM13=TRUE, "計画通知取下げ届", "確認申請取下げ届") -> 確認申請取下げ届
Q24: （注記）
C25: (2) | D25: =IF(AM13=TRUE, "計画通知書（昇降機）", "確認申請書（昇降機）") -> 確認申請書（昇降機） | AB25: (20) | AC25: 工事取止め届
D26: 別紙（他の設置者） | O26: (10) | P26: =IF(AM13=TRUE, "計画変更通知書（工作物１）", "計画変更確認申請書（工作物１）") -> 計画変更確認申請書（工作物１）
E27: （注記） | P27: 別紙（他の築造主） | AB27: (21) | AC27: =IF(AM13=TRUE, "特定工事終了通知取下げ届", "中間検査申請取下げ届") -> 中間検査申請取下げ届
Q28: （注記）
C29: (3) | D29: =IF(AM13=TRUE, "計画通知書（昇降機以外の建築設備）", "確認申請書（昇降機以外の建築設備）") -> 確認申請書（昇降機以外の建築設備） | AB29: (22) | AC29: =IF(AM13=TRUE, "工事完了通知取下げ届", "完了検査申請取下げ届") -> 完了検査申請取下げ届
D30: 別紙（他の設置者） | O30: (11) | P30: =IF(AM13=TRUE, "計画変更通知書（工作物２）", "計画変更確認申請書（工作物２）") -> 計画変更確認申請書（工作物２）
E31: （注記） | P31: 別紙（他の築造主） | AB31: (23) | AC31: 仮使用認定申請取下げ届
Q32: （注記）
C33: (4) | D33: =IF(AM13=TRUE, "計画通知書（工作物１）", "確認申請書（工作物１）") -> 確認申請書（工作物１） | I33: （法第８８条第１項） | AB33: (24) | AC33: 建築主等変更届
D34: 別紙（他の築造主） | O34: (12) | P34: =IF(AM13=TRUE, "特定工程工事終了通知書", "中間検査申請書") -> 中間検査申請書
E35: （注記） | P35: 別紙（他の建築主） | AB35: (25) | AC35: 工事監理者届
Q36: （注記）
C37: (5) | D37: =IF(AM13=TRUE, "計画通知書（工作物２）", "確認申請書（工作物２）") -> 確認申請書（工作物２） | I37: （法第８８条第２項） | AB37: (26) | AC37: 工事施工者届
D38: 別紙（他の築造主） | O38: (13) | P38: =IF(AM13=TRUE, "工事完了通知書", "完了検査申請書") -> 完了検査申請書
E39: （注記） | P39: 別紙（他の建築主） | AB39: (27) | AC39: 完了検査追加説明書
Q40: （注記）
C41: (6) | D41: 建築計画概要書 | AB41: (28) | AC41: 築造計画概要書
D42: 別紙（他の建築主） | O42: (14) | P42: 検査添付写真（軸組仕口） | AC42: 別紙（他の築造主）
D43: 別紙（昇降機の概要） | AD43: （注記）
E44: （注記） | O44: (15) | P44: 建築工事届 | S44: （注記）
AB45: (29) | AC45: 記載内容変更訂正届
...

Sheet 確認申請書（建築）入力
A1: 確認申請書（建築物）入力画面 | X1: 作業メニュー
B2: ※この画面は入力専用画面です。印刷する場合は「作業メニュー」→帳票確認・印刷より印刷してください。
B4: 提出先 | M4: 指定確認検査機関 株式会社東日本住宅評価センター 様
B6: 提出先支店名
B8: 確認申請日 | S8: （記入例： 2019年5月1日 ）
B10: 建築名称フリガナ
B11: 建築名称 | AK11: メーカー管理番号
A13: 建築主等の概要
A14: [ | B14: 1．建築主 ] | M14: 建築主が２以上のときは、「他の建築主入力」画面で追加入力してください | AG14: 他の建築主入力
B15: 建築主会社名フリガナ | AD15: ※建築主が法人の場合、こちらに会社名を入力してください。
B16: 建築主会社名
B18: 【ｲ．氏名のフリガナ】 | V18: =IF(他の建築主入力!$F$4="","",他の建築主入力!$F$4) | AE18: =IF(他の建築主入力!$F$12="","",他の建築主入力!$F$12) | AN18: =IF(他の建築主入力!$F$20="","",他の建築主入力!$F$20)
B19: 【ﾛ．氏名】 | V19: =IF(他の建築主入力!$F$5="","",他の建築主入力!$F$5) | AE19: =IF(他の建築主入力!$F$13="","",他の建築主入力!$F$13) | AN19: =IF(他の建築主入力!$F$21="","",他の建築主入力!$F$21)
B20: 【ﾊ．郵便番号】
B21: 【ﾆ．住所】
B22: 【ﾎ．電話番号】
A24: [ | B24: 2．代理者]
B26: 【ｲ．資格】 | M26: （ | N26: =IF($M$27="","",VLOOKUP($M$27,担当者登録!$B$2:$J$51,2,FALSE)) | Q26: ）建築士 | U26: （ | V26: =IF($M$27="","",VLOOKUP($M$27,担当者登録!$B$2:$J$51,3,FALSE)) | AB26: ）登録 第 | AE26: =IF($M$27="","",VLOOKUP($M$27,担当者登録!$B$2:$J$51,4,FALSE)) | AK26: 号 | AN26: ←担当者登録は、こちらから。
B27: 【ﾛ．氏名】
B28: 【ﾊ．建築士事務所名】 | M28: （ | N28: =IF($M$27="","",VLOOKUP($M$27,担当者登録!$B$2:$J$51,7,FALSE)) | Q28: ）建築士事務所 | V28: （ | W28: =IF($M$27="","",VLOOKUP($M$27,担当者登録!$B$2:$J$51,8,FALSE)) | AA28: ）知事登録 第 | AE28: =IF($M$27="","",VLOOKUP($M$27,担当者登録!$B$2:$J$51,9,FALSE)) | AK28: 号
M29: =IF($M$27="","",VLOOKUP($M$27,担当者登録!$B$2:$J$51,6,FALSE))
B30: 【ﾆ．郵便番号】 | M30: =IF($M$27="","",VLOOKUP($M$27,担当者登録!$B$2:$M$51,10,FALSE))
B31: 【ﾎ．所在地】 | M31: =IF($M$27="","",VLOOKUP($M$27,担当者登録!$B$2:$M$51,11,FALSE))
B32: 【ﾍ．電話番号】 | M32: =IF($M$27="","",VLOOKUP($M$27,担当者登録!$B$2:$M$51,12,FALSE))
A34: [ | B34: 3．設計者 ]
B35: （代表となる設計者）
B36: 【ｲ．資格】 | M36: （ | N36: =IF($M$37="","",VLOOKUP($M$37,担当者登録!$B$2:$J$51,2,FALSE)) | Q36: ）建築士 | U36: （ | V36: =IF($M$37="","",VLOOKUP($M$37,担当者登録!$B$2:$J$51,3,FALSE)) | AB36: ）登録 第 | AE36: =IF($M$37="","",VLOOKUP($M$37,担当者登録!$B$2:$J$51,4,FALSE)) | AK36: 号 | AN36: ←担当者登録は、こちらから。
B37: 【ﾛ．氏名】
B38: 【ﾊ．建築士事務所名】 | M38: （ | N38: =IF($M$37="","",VLOOKUP($M$37,担当者登録!$B$2:$J$51,7,FALSE)) | Q38: ）建築士事務所 | V38: （ | W38: =IF($M$37="","",VLOOKUP($M$37,担当者登録!$B$2:$J$51,8,FALSE)) | AA38: ）知事登録 第 | AE38: =IF($M$37="","",VLOOKUP($M$37,担当者登録!$B$2:$J$51,9,FALSE)) | AK38: 号
M39: =IF($M$37="","",VLOOKUP($M$37,担当者登録!$B$2:$J$51,6,FALSE))
B40: 【ﾆ．郵便番号】 | M40: =IF($M$37="","",VLOOKUP($M$37,担当者登録!$B$2:$M$51,10,FALSE))
B41: 【ﾎ．所在地】 | M41: =IF($M$37="","",VLOOKUP($M$37,担当者登録!$B$2:$M$51,11,FALSE))
B42: 【ﾍ．電話番号】 | M42: =IF($M$37="","",VLOOKUP($M$37,担当者登録!$B$2:$M$51,12,FALSE))
B43: 【ト．作成又は確認した設計図書】
B45: （その他の設計者）
B46: 【ｲ．資格】 | M46: （ | N46: =IF($M$47="","",VLOOKUP($M$47,担当者登録!$B$2:$J$51,2,FALSE)) | Q46: ）建築士 | U46: （ | V46: =IF($M$47="","",VLOOKUP($M$47,担当者登録!$B$2:$J$51,3,FALSE)) | AB46: ）登録 第 | AE46: =IF($M$47="","",VLOOKUP($M$47,担当者登録!$B$2:$J$51,4,FALSE)) | AK46: 号
B47: 【ﾛ．氏名】
B48: 【ﾊ．建築士事務所名】 | M48: （ | N48: =IF($M$47="","",VLOOKUP($M$47,担当者登録!$B$2:$J$51,7,FALSE)) | Q48: ）建築士事務所 | V48: （ | W48: =IF($M$47="","",VLOOKUP($M$47,担当者登録!$B$2:$J$51,8,FALSE)) | AA48: ）知事登録 第 | AE48: =IF($M$47="","",VLOOKUP($M$47,担当者登録!$B$2:$J$51,9,FALSE)) | AK48: 号
M49: =IF($M$47="","",VLOOKUP($M$47,担当者登録!$B$2:$J$51,6,FALSE))
B50: 【ﾆ．郵便番号】 | M50: =IF($M$47="","",VLOOKUP($M$47,担当者登録!$B$2:$M$51,10,FALSE))
...

Sheet 他の建築主入力
A1: 他の建築主 入力画面 | M1: 作業メニュー
A3: [１．他の建築主（１） ]
A4: 【ｲ.氏名のフリガナ】
A5: 【ﾛ.氏名】
A6: 【ﾊ.郵便番号】
A7: 【ﾆ.住所】
A8: 【ﾎ.電話番号】
A11: [１．他の建築主（２） ]
A12: 【ｲ.氏名のフリガナ】
A13: 【ﾛ.氏名】
A14: 【ﾊ.郵便番号】
A15: 【ﾆ.住所】
A16: 【ﾎ.電話番号】
... A24: 【ﾎ.電話番号】

Sheet 建築物別概要（追加）入力
A1: 建築物別概要 入力画面 | O1: 作業メニュー | W1: 建築物 番号3
A2: 建築物別概要
A3: [ | B3: １．番号 ] | D3: 2
A4: [ | B4: ２．用途 ] | AF4: ←プルダウンメニューは変更できます。
B5: （区分 | H5: ） | I5: =IF(項目一覧②!$G$253=1,"",INDEX(主要用途!$D$2:$D$63,項目一覧②!$G$253)) | AG5: メンテナンスより、
B6: （区分 | H6: ） | I6: =IF(項目一覧②!$G$255=1,"",INDEX(主要用途!$D$2:$D$63,項目一覧②!$G$255)) | AG6: 項目を書き換えて
B7: （区分 | H7: ） | I7: =IF(項目一覧②!$G$257=1,"",INDEX(主要用途!$D$2:$D$63,項目一覧②!$G$257)) | AG7: ください。
A8: [ | B8: ３．工事種別 ]
D9: 新築 | G9: 増築 | J9: 改築 | M9: 移転 | P9: 用途変更 | T9: 大規模の修繕 | Y9: 大規模の模様替 | AD9: =IF(COUNTIF(項目一覧②!$G$259:$M$259,TRUE)=1,"","工事種別をいずれか１つ選択してください") -> 工事種別をいずれか１つ選択してください
A11: [ | B11: ４．構造 ]
A14: [ | B14: 5．主要構造部 ] | D14: 耐火構造 | G14: （防火上及び避難上支障がない主要構造部を有しない場合）
D15: 耐火構造 | G15: （防火上及び避難上支障がない主要構造部を有する場合）
D16: 建築基準法施行令第108条の４第1項第1号イ及びロに掲げる基準に適合する構造
D17: 準耐火構造
D18: 準耐火構造と同等の準耐火性能を有する構造（ロ－1）
D19: 準耐火構造と同等の準耐火性能を有する構造（ロ－2）
D20: その他
A23: [ | B23: 6．建築基準法第21条及び第27条の規定の適用 ]
D24: 建築基準法施行令第109条の５第1号に掲げる基準に適合する構造
D25: 建築基準法第21条第1項ただし書に該当する建築物
D26: 建築基準法施行令第109条の７第１項第１号に掲げる基準に適する構造
D27: 建築基準法施行令第110条第1号に掲げる基準に適合する構造
D28: その他
D29: 建築基準法第21条又は第27条の規定の適用を受けない
A32: [ | B32: 7．建築基準法第61条の規定の適用 ]
D33: 耐火建築物 | J33: 延焼防止建築物 | Q33: 準耐火建築物 | W33: 準延焼防止建築物
D34: その他 | J34: 建築基準法第61条の規定の適用を受けない
A36: [ | B36: ８．階数 ]
B37: 【ｲ．地階を除く階数】 | AD37: ←プルダウンメニューは変更できます。
B38: 【ﾛ．地階の階数】 | AE38: メンテナンスより、
B39: 【ﾊ．昇降機塔等の階の数】 | AE39: 項目を書き換えて
B40: 【ﾆ．地階の倉庫等の階の数】 | AE40: ください。
A42: [ | B42: ９．高さ ]
B43: 【ｲ．最高の高さ】 | H43: ｍ
B44: 【ﾛ．最高の軒の高さ】 | H44: ｍ
A46: [ | B46: １０．建築設備の種類]
A48: [ | B48: １１．確認の特例 ]
B49: 【ｲ．建築基準法第６条の３第１項ただし書又は同法第１８条第５項ただし書の規定による審査の特例の適用の有無】
U50: 有 | X50: 無 | AE50: =IF(COUNTIF(項目一覧②!G20:H20,TRUE)<2,"","特例の適用の有無はどちらか１つを選択してください")
B51: 【ﾛ. 適用があるときは、特例の区分】
...

Sheet 建築物独立部分別概要（追加）入力
A1: 建築物独立部分別概要 入力画面 | V1: 作業メニュー
A4: ［ | B4: 1. | C4: 番号］ | F4: 2
A6: ［ | B6: 2. | C6: 延べ面積］ | J6: ㎡
A8: ［ | B8: 3. | C8: 建築物の高さ等］
B9: ［ | C9: イ. | D9: 最高の高さ］ | M9: m
B10: ［ | C10: ロ. | D10: 最高の軒の高さ］ | M10: m
B11: ［ | C11: ハ. | D11: 階数］ | H11: 地上 | M11: 階 | P11: 地下 | U11: 階
B12: ［ | C12: ニ. | D12: 構造］ | R12: 一部
A14: ［ | B14: 4. | C14: 特定構造計算基準又は特定増改築構造計算基準の別］
D15: 特定構造計算基準
D16: 特定増改築構造計算基準
A18: ［ | B18: 5. | C18: 構造計算の区分］
D19: 建築基準法施行令第81条第1項各号に掲げる基準に従った構造計算
D20: 建築基準法施行令第81条第2項第1号イに掲げる構造計算
D21: 建築基準法施行令第81条第2項第1号ロに掲げる構造計算
D22: 建築基準法施行令第81条第2項第2号イに掲げる構造計算
D23: 建築基準法施行令第81条第3項に掲げる構造計算
A25: ［ | B25: 6. | C25: 構造計算に用いたプログラム］
B26: ［ | C26: イ. | D26: 名称］
B27: ［ | C27: ロ. | D27: 区分］
D28: 建築基準法第20条第1項第2号イ又は第3号イの認定を受けたプログラム
S29: （大臣認定番号 | Z29: ）
D30: その他プログラム
A32: ［ | B32: 7. | C32: 建築基準法施行令第137条の2各号に定める基準の区分］ | S32: （ | Z32: ）
A34: ［ | B34: 8. | C34: 備考］
A39: ［ | B39: 1. | C39: 番号］ | F39: 3
A41: ［ | B41: 2. | C41: 延べ面積］ | J41: ㎡
A43: ［ | B43: 3. | C43: 建築物の高さ等］
B44: ［ | C44: イ. | D44: 最高の高さ］ | M44: m
B45: ［ | C45: ロ. | D45: 最高の軒の高さ］ | M45: m
B46: ［ | C46: ハ. | D46: 階数］ | H46: 地上 | M46: 階 | P46: 地下 | U46: 階
B47: ［ | C47: ニ. | D47: 構造］ | R47: 一部
A49: ［ | B49: 4. | C49: 特定構造計算基準又は特定増改築構造計算基準の別］
D50: 特定構造計算基準
D51: 特定増改築構造計算基準
A53: ［ | B53: 5. | C53: 構造計算の区分］
D54: 建築基準法施行令第81条第1項各号に掲げる基準に従った構造計算
D55: 建築基準法施行令第81条第2項第1号イに掲げる構造計算
D56: 建築基準法施行令第81条第2項第1号ロに掲げる構造計算
D57: 建築基準法施行令第81条第2項第2号イに掲げる構造計算
...

Sheet 確認申請書（建築）印刷
A1: 確認申請書（建築物） | V1: 作業メニュー | AE1: ※入力項目があります
B2: =IF(作業メニュー!AM13=TRUE, "第四十二号様式（第八条の二の二及び第八条の二の六関係） (A4)", "第二号様式（第一条の三、第三条、第三条の三関係）") -> 第二号様式（第一条の三、第三条、第三条の三関係）
H4: =IF(作業メニュー!AM13=TRUE, "建築基準法第18条第２項又は第４項の規定による ", "")
B5: =IF(作業メニュー!AM13=TRUE, "計画通知書 （建築物）", "確認申請書 （建築物）") -> 確認申請書 （建築物）
N7: （第一面）
C9: =IF(作業メニュー!AM13=TRUE, " 建築基準法第18条第２項又は第４項の規定により計画を通知します。", " 建築基準法第６条第１項又は第６条の２第１項の規定による確認を申請します。") -> 建築基準法第６条第１項又は第６条の２第１項の規定による確認を申請します。
C10: =IF(作業メニュー!AM13=TRUE, "", " この申請書及び添付図書に記載の事項は、事実に相違ありません。") -> この申請書及び添付図書に記載の事項は、事実に相違ありません。
B13: =IF('確認申請書（建築）入力'!$M$4=0,"",'確認申請書（建築）入力'!$M$4) -> 指定確認検査機関 株式会社東日本住宅評価センター 様
V15: =IF(作業メニュー!AM13=TRUE, "第", "") | AB15: =IF(作業メニュー!AM13=TRUE, "号", "")
T16: =IF(OR(項目一覧!$C$168=0,項目一覧!$C$168="")," 年 月 日",IF(項目一覧!$C$168>=DATE(2019,5,1),"令和"&IF(YEAR(項目一覧!$C$168)-2018=1,"元",YEAR(項目一覧!$C$168)-2018)&"年"&MONTH(項目一覧!$C$168)&"月"&DAY(項目一覧!$C$168)&"日",項目一覧!$C$168)) -> 年 月 日
P19: =項目一覧!$C$183
J20: =IF(作業メニュー!AM13=TRUE, " 通 知 者 官 職", " 申 請 者 氏 名") -> 申 請 者 氏 名 | P20: =項目一覧!$C$4
M22: =IF(AJ22=TRUE,"氏名 ","") | P22: =IF(AJ22=TRUE,項目一覧!$C$173,"") | AJ22: FALSE
M24: =IF(AJ24=TRUE,"氏名 ","") | P24: =IF(AJ24=TRUE,項目一覧!$C$178,"") | AJ24: FALSE
M26: =IF(AJ26=TRUE,"氏名 ","") | P26: =IF(AJ26=TRUE,項目一覧!$C$184,"") | AJ26: FALSE
P30: =項目一覧!$C$30
J31: 設 計 者 氏 名 | P31: =項目一覧!$C$25
B38: ※ 受付欄 | I38: =IF(作業メニュー!AM13=TRUE, "※ 消防関係通知欄", "※ 消防関係同意欄") -> ※ 消防関係同意欄 | O38: ※ 決裁欄 | U38: ※ 確認番号欄
O39: 別紙による | U39: 年 月 日
U40: 第 東日本 号
U43: 日付、番号は別紙による
A49: （第二面）
B50: 建築主等の概要
A51: [ | B51: １． 建築主 ]
B52: [ｲ． 氏名のフリガナ] | H52: =IF(項目一覧!$C$21=0,"",項目一覧!$C$21&" ")&IF(項目一覧!$C$5=0,"",項目一覧!$C$5)
B53: [ﾛ． 氏名] | H53: =IF(項目一覧!$C$183=0,"",項目一覧!$C$183&" ")&IF(項目一覧!$C$4=0,"",項目一覧!$C$4)
B54: [ﾊ． 郵便番号] | H54: =項目一覧!$C$6
B55: [ﾆ． 住所] | H55: =項目一覧!$C$7
B56: [ﾎ． 電話番号] | H56: =項目一覧!$C$8
A57: [ | B57: ２． 代理者 ]
B58: [ｲ． 資格] | H58: =IF(項目一覧!$C$9=0,"","("&項目一覧!$C$9&") 建築士 （"&項目一覧!$C$10&"）登録 第 "&項目一覧!$C$11&" 号") -> () 建築士 （）登録 第 号
B59: [ﾛ． 氏名] | H59: =項目一覧!$C$12
B60: [ﾊ． 建築士事務所名] | H60: =IF(項目一覧!$C$13=0,"","("&項目一覧!$C$13&") 建築士事務所 （"&項目一覧!$C$14&"）知事登録 第 "&項目一覧!$C$15&" 号") -> () 建築士事務所 （）知事登録 第 号
H61: =項目一覧!$C$16
B62: [ﾆ． 郵便番号] | H62: =項目一覧!$C$17
B63: [ﾎ． 所在地] | H63: =項目一覧!$C$18
B64: [ﾍ． 電話番号] | H64: =項目一覧!$C$19
A65: [ | B65: ３． 設計者 ]
B66: （代表となる設計者）
B67: [ｲ． 資格] | H67: =IF(項目一覧!$C$22=0,"","("&項目一覧!$C$22&") 建築士 （"&項目一覧!$C$23&"）登録 第 "&項目一覧!$C$24&" 号") -> () 建築士 （）登録 第 号
...

Sheet 建築物別概要（追加）印刷
A1: 確認申請書（建築物）印刷画面 | W1: 作業メニュー
A2: （第四面）
B3: 建築物別概要
A4: [ | B4: １．番号 ] | F4: =項目一覧②!$F$252 -> 2
A5: [ | B5: ２．用途 ] | E5: （区分 | G5: =項目一覧②!$F$253 | I5: ） | J5: =項目一覧②!$F$254
E6: （区分 | G6: =項目一覧②!$F$255 | I6: ） | J6: =項目一覧②!$F$256
E7: （区分 | G7: =項目一覧②!$F$257 | I7: ） | J7: =項目一覧②!$F$258
E8: （区分 | I8: ）
A9: [ | B9: ３．工事種別 ]
B10: =IF(項目一覧②!$G$259=TRUE,"■","□") -> □ | C10: 新築 | E10: =IF(項目一覧②!$H$259=TRUE,"■","□") -> □ | F10: 増築 | H10: =IF(項目一覧②!$I$259=TRUE,"■","□") -> □ | I10: 改築 | K10: =IF(項目一覧②!$J$259=TRUE,"■","□") -> □ | L10: 移転 | N10: =IF(項目一覧②!$K$259=TRUE,"■","□") -> □ | O10: 用途変更 | R10: =IF(項目一覧②!$L$259=TRUE,"■","□") -> □ | S10: 大規模の修繕 | W10: =IF(項目一覧②!$M$259=TRUE,"■","□") -> □ | X10: 大規模の模様替
A11: [ | B11: ４．構造 ] | H11: =項目一覧②!$F$260&IF(項目一覧②!$F$876="",""," 一部 "&項目一覧②!$F$876)
A12: [ | B12: ５．主要構造部 ]
E13: =IF(項目一覧②!$G$833=TRUE,"■","□") -> □ | F13: 耐火構造 | I13: （防火上及び避難上支障がない主要構造部を有しない場合）
E14: =IF(項目一覧②!$G$879=TRUE,"■","□") -> □ | F14: 耐火構造 | I14: （防火上及び避難上支障がない主要構造部を有する場合）
E15: =IF(項目一覧②!$G$834=TRUE,"■","□") -> □ | F15: 建築基準法施行令第108条の４第１項第１号イ及びロに掲げる基準に適合する構造
E16: =IF(項目一覧②!$G$835=TRUE,"■","□") -> □ | F16: 準耐火構造
E17: =IF(項目一覧②!$G$836=TRUE,"■","□") -> □ | F17: 準耐火構造と同等の準耐火性能を有する構造（ロ－1）
E18: =IF(項目一覧②!$G$837=TRUE,"■","□") -> □ | F18: 準耐火構造と同等の準耐火性能を有する構造（ロ－2）
E19: =IF(項目一覧②!$G$863=TRUE,"■","□") -> □ | F19: その他
A20: [ | B20: ６．建築基準法第21条及び第27条の規定の適用 ]
E21: =IF(項目一覧②!$G$839=TRUE,"■","□") -> □ | F21: 建築基準法施行令第109条の５第１号に掲げる基準に適合する構造
E22: =IF(項目一覧②!$G$840=TRUE,"■","□") -> □ | F22: 建築基準法第21条第１項ただし書に該当する建築物
E23: =IF(項目一覧②!$G$882=TRUE,"■","□") -> □ | F23: 建築基準法施行令第109条の７第１項第１号に掲げる基準に適する構造
E24: =IF(項目一覧②!$G$841=TRUE,"■","□") -> □ | F24: 建築基準法施行令第110条第１号に掲げる基準に適合する構造
E25: =IF(項目一覧②!$G$864=TRUE,"■","□") -> □ | F25: その他
E26: =IF(項目一覧②!$G$865=TRUE,"■","□") -> □ | F26: 建築基準法第21条又は第27条の規定の適用を受けない
A27: [ | B27: ７．建築基準法第61条の規定の適用 ]
E28: =IF(項目一覧②!$G$866=TRUE,"■","□") -> □ | F28: 耐火建築物 | J28: =IF(項目一覧②!$G$842=TRUE,"■","□") -> □ | K28: 延焼防止建築物 | P28: =IF(項目一覧②!$G$867=TRUE,"■","□") -> □ | Q28: 準耐火建築物 | U28: =IF(項目一覧②!$G$843=TRUE,"■","□") -> □ | V28: 準延焼防止建築物
E29: =IF(項目一覧②!$G$844=TRUE,"■","□") -> □ | F29: その他 | J29: =IF(項目一覧②!$G$868=TRUE,"■","□") -> □ | K29: 建築基準法第61条の規定の適用を受けない
A30: [ | B30: ８．階数 ]
B31: [ｲ． | C31: 地階を除く階数] | K31: =項目一覧②!$F$263
B32: [ﾛ． | C32: 地階の階数] | K32: =項目一覧②!$F$264
B33: [ﾊ． | C33: 昇降機塔等の階の数] | K33: =項目一覧②!$F$265
B34: [ﾆ． | C34: 地階の倉庫等の階の数] | K34: =項目一覧②!$F$266
A35: [ | B35: ９．高さ ]
B36: [ｲ． | C36: 最高の高さ] | K36: =項目一覧②!$F$267 | O36: ｍ
B37: [ﾛ． | C37: 最高の軒の高さ] | K37: =項目一覧②!$F$268 | O37: ｍ
A38: [ | B38: １０．建築設備の種類 ] | H38: =項目一覧②!$F$269
A39: [ | B39: １１．確認の特例 ]
B40: [ｲ． | C40: 建築基準法第６条の３第１項ただし書又は同法第１８条第５項ただし書の規定による審査の特例の適用の有無]
...

Sheet 建築物独立部分別概要（追加）印刷
A1: 建築物独立部分別概要 印刷画面 | V1: 作業メニュー
A3: （第六面）
A5: ［ | B5: 1. | C5: 番号］ | G5: =項目一覧②!$F$773 -> 2
A6: ［ | B6: 2. | C6: 延べ面積］ | G6: =項目一覧②!$F$774 | J6: ㎡
A7: ［ | B7: 3. | C7: 建築物の高さ等］
B8: ［ | C8: イ. | D8: 最高の高さ］ | I8: =項目一覧②!$F$775 | M8: m
B9: ［ | C9: ロ. | D9: 最高の軒の高さ］ | I9: =項目一覧②!$F$776 | M9: m
B10: ［ | C10: ハ. | D10: 階数］ | H10: 地上 | J10: =項目一覧②!$F$777 | M10: 階 | P10: 地下 | R10: =項目一覧②!$F$778 | U10: 階
B11: ［ | C11: ニ. | D11: 構造］ | I11: =項目一覧②!$F$779&IF(項目一覧②!$F$780="",""," 一部 "&項目一覧②!$F$780)
A12: ［ | B12: 4. | C12: 特定構造計算基準又は特定増改築構造計算基準の別］
C13: =IF(項目一覧②!$G$781=TRUE,"■","□") -> □ | D13: 特定構造計算基準
C14: =IF(項目一覧②!$G$782=TRUE,"■","□") -> □ | D14: 特定増改築構造計算基準
A15: ［ | B15: 5. | C15: 構造計算の区分］
C16: =IF(項目一覧②!$G$783=TRUE,"■","□") -> □ | D16: 建築基準法施行令第81条第1項各号に掲げる基準に従った構造計算
C17: =IF(項目一覧②!$G$781=TRUE,"■","□") -> □ | D17: 建築基準法施行令第81条第2項第1号イに掲げる構造計算
C18: =IF(項目一覧②!$G$784=TRUE,"■","□") -> □ | D18: 建築基準法施行令第81条第2項第1号ロに掲げる構造計算
C19: =IF(項目一覧②!$G$785=TRUE,"■","□") -> □ | D19: 建築基準法施行令第81条第2項第2号イに掲げる構造計算
C20: =IF(項目一覧②!$G$786=TRUE,"■","□") -> □ | D20: 建築基準法施行令第81条第3項に掲げる構造計算
A21: ［ | B21: 6. | C21: 構造計算に用いたプログラム］
B22: ［ | C22: イ. | D22: 名称］ | F22: =項目一覧②!$F$788 | G22: =項目一覧②!$F$788
B23: ［ | C23: ロ. | D23: 区分］
C24: =IF(項目一覧②!$G$789=TRUE,"■","□") -> □ | D24: 建築基準法第20条第1項第2号イ又は第3号イの認定を受けたプログラム
S25: （大臣認定番号 | T25: =項目一覧②!$F$790 | Z25: ）
C26: =IF(項目一覧②!$G$791=TRUE,"■","□") -> □ | D26: その他プログラム
A27: ［ | B27: 7. | C27: 建築基準法施行令第137条の2各号に定める基準の区分］ | S27: （ | T27: =項目一覧②!$F$792 | Z27: ）
A28: ［ | B28: 8. | C28: 備考］ | E28: =項目一覧②!$F$793
A31: （第六面）
A33: ［ | B33: 1. | C33: 番号］ | G33: =項目一覧②!$F$794 -> 3
A34: ［ | B34: 2. | C34: 延べ面積］ | G34: =項目一覧②!$F$795 | K34: ㎡
A35: ［ | B35: 3. | C35: 建築物の高さ等］
B36: ［ | C36: イ. | D36: 最高の高さ］ | I36: =項目一覧②!$F$796 | M36: m
B37: ［ | C37: ロ. | D37: 最高の軒の高さ］ | I37: =項目一覧②!$F$797 | M37: m
B38: ［ | C38: ハ. | D38: 階数］ | H38: 地上 | I38: =項目一覧②!$F$798 | M38: 階 | P38: 地下 | Q38: =項目一覧②!$F$799 | U38: 階
B39: ［ | C39: ニ. | D39: 構造］ | I39: =項目一覧②!$F$800&IF(項目一覧②!$F$801="",""," 一部 "&項目一覧②!$F$801)
A40: ［ | B40: 4. | C40: 特定構造計算基準又は特定増改築構造計算基準の別］
C41: =IF(項目一覧②!$G$802=TRUE,"■","□") -> □ | D41: 特定構造計算基準
C42: =IF(項目一覧②!$G$803=TRUE,"■","□") -> □ | D42: 特定増改築構造計算基準
A43: ［ | B43: 5. | C43: 構造計算の区分］
C44: =IF(項目一覧②!$G$804=TRUE,"■","□") -> □ | D44: 建築基準法施行令第81条第1項各号に掲げる基準に従った構造計算
C45: =IF(項目一覧②!$G$805=TRUE,"■","□") -> □ | D45: 建築基準法施行令第81条第2項第1号イに掲げる構造計算
...

Sheet 他の建築主（申請書用）
A1: 確認申請書別紙（他の建築主） 印刷画面 | T1: 作業メニュー
B3: 別紙
A4: [ | B4: １． 他の建築主（１） ]
B5: [ｲ． 氏名のフリガナ] | I5: =項目一覧!$C$174
B6: [ﾛ． 氏名] | I6: =項目一覧!$C$173
B7: [ﾊ． 郵便番号] | I7: =項目一覧!$C$175
B8: [ﾆ． 住所] | I8: =項目一覧!$C$176
B9: [ﾎ． 電話番号] | I9: =項目一覧!$C$177
A11: [ | B11: １． 他の建築主（2） ]
B12: [ｲ． 氏名のフリガナ] | I12: =項目一覧!$C$179
B13: [ﾛ． 氏名] | I13: =項目一覧!$C$178
B14: [ﾊ． 郵便番号] | I14: =項目一覧!$C$180
B15: [ﾆ． 住所] | I15: =項目一覧!$C$181
B16: [ﾎ． 電話番号] | I16: =項目一覧!$C$182
A18: [ | B18: １． 他の建築主（3） ]
B19: [ｲ． 氏名のフリガナ] | I19: =項目一覧!$C$185
B20: [ﾛ． 氏名] | I20: =項目一覧!$C$184
B21: [ﾊ． 郵便番号] | I21: =項目一覧!$C$186
B22: [ﾆ． 住所] | I22: =項目一覧!$C$187
B23: [ﾎ． 電話番号] | I23: =項目一覧!$C$188

Sheet 昇降機の概要（申請書用）
A1: 確認申請書別紙（昇降機の概要） 印刷画面 | T1: 作業メニュー
B3: 別紙
A4: [ | B4: 昇降機の概要 ] | G4: （番号 1 ）
B5: [ｲ． 種別] | G5: =項目一覧!$C$380
B6: [ﾛ． 用途] | G6: =項目一覧!$C$381
B7: [ﾊ． 積載荷重] | G7: ='確認申請書（建築）入力'!BG341 -> 0 | H7: N
B8: [ﾆ． 最大定員] | G8: ='確認申請書（建築）入力'!BG342 -> 0 | H8: 人
B9: [ﾎ． 定格速度] | G9: ='確認申請書（建築）入力'!BG343 -> 0 | H9: ｍ/分
B10: [ﾎ． その他必要な事項] | G10: ='確認申請書（建築）入力'!BG344 -> 0
A11: =IF(G12<>"", " [ 昇降機の概要 ] （番号 ２ ）", "")
B12: =IF(G12<>"", "[ｲ． 種別]", "") | G12: =項目一覧!$C$386
B13: =IF(G13<>"", "[ﾛ． 用途]", "") | G13: =項目一覧!$C$387
B14: =IF(ISBLANK('確認申請書（建築）入力'!BU341), "", "[ﾊ． 積載荷重]") | G14: ='確認申請書（建築）入力'!BU341 -> 0 | H14: =IF(ISBLANK('確認申請書（建築）入力'!BU341), "", "N")
B15: =IF(ISBLANK('確認申請書（建築）入力'!BU342), "", "[ﾆ． 最大定員]") | G15: ='確認申請書（建築）入力'!BU342 -> 0 | H15: =IF(ISBLANK('確認申請書（建築）入力'!BU341), "", "人")
B16: =IF(ISBLANK('確認申請書（建築）入力'!BU343), "", "[ﾎ． 定格速度]") | G16: ='確認申請書（建築）入力'!BU343 -> 0 | H16: =IF(ISBLANK('確認申請書（建築）入力'!BU341), "", "ｍ/分")
B17: =IF(ISBLANK('確認申請書（建築）入力'!BU344), "", "[ﾍ． その他必要な事項]") | G17: ='確認申請書（建築）入力'!BU344 -> 0

Sheet 建築計画概要書
A1: 建築計画概要書 | P1: 作業メニュー | AE1: ※建築主複数の場合、手入力あります。
B3: 第三号様式 | M3: ※受付欄 | U3: ※確認済証番号
B4: （第一条の三、第三条、第三条の三、第三条の四、第三条の七、第三条の十、第六条の三、第十一条の三関係）
U5: 年 月 日
U7: 第 東日本
AA8: 号
A11: 建築計画概要書 （第一面）
B12: 建築主等の概要
A13: [ | B13: １． 建築主 ] | AE13: 建築主ごとに住所が異なる場合に対応しておりません。
B14: [ｲ． 氏名のフリガナ] | H14: =IF(項目一覧!$C$21=0,"",項目一覧!$C$21&" ")&IF(項目一覧!$C$5=0,"",項目一覧!$C$5) | N14: =IF(項目一覧!$C$174=0,"",項目一覧!$C$174&" ") | S14: =IF(項目一覧!$C$179=0,"",項目一覧!$C$179&" ") | X14: =IF(項目一覧!$C$185=0,"",項目一覧!$C$185&" ") | AF14: 左側画面に上書きで入力し、修正してください。
B15: [ﾛ． 氏名] | H15: =IF(項目一覧!$C$183=0,"",項目一覧!$C$183&" ")&IF(項目一覧!$C$4=0,"",項目一覧!$C$4) | N15: =IF(項目一覧!$C$173=0,"",項目一覧!$C$173&" ") | S15: =IF(項目一覧!$C$178=0,"",項目一覧!$C$178&" ") | X15: =IF(項目一覧!$C$184=0,"",項目一覧!$C$184&" ")
B16: [ﾊ． 郵便番号] | H16: =項目一覧!$C$6 | AE16: －－－以下は「他の建築主」より参照－－－
B17: [ﾆ． 住所] | H17: =項目一覧!$C$7 | AF17: （１）
AF18: =他の建築主入力!F4 -> 0
A19: [ | B19: ２． 代理者 ] | AF19: =他の建築主入力!F5 -> 0
B20: [ｲ． 資格] | H20: =IF(項目一覧!$C$9=0,"","("&項目一覧!$C$9&") 建築士 （"&項目一覧!$C$10&"）登録 第 "&項目一覧!$C$11&" 号") -> () 建築士 （）登録 第 号 | AF20: =他の建築主入力!F6 -> 0
B21: [ﾛ． 氏名] | H21: =項目一覧!$C$12 | AF21: =他の建築主入力!F7 -> 0
B22: [ﾊ． 建築士事務所名] | H22: =IF(項目一覧!$C$13=0,"","("&項目一覧!$C$13&") 建築士事務所 （"&項目一覧!$C$14&"）知事登録 第 "&項目一覧!$C$15&" 号") -> () 建築士事務所 （）知事登録 第 号 | AF22: （２）
H23: =項目一覧!$C$16 | AF23: =他の建築主入力!F12 -> 0
B24: [ﾆ． 郵便番号] | H24: =項目一覧!$C$17 | AF24: =他の建築主入力!F13 -> 0
B25: [ﾎ． 所在地] | H25: =項目一覧!$C$18 | AF25: =他の建築主入力!F14 -> 0
B26: [ﾍ． 電話番号] | H26: =項目一覧!$C$19 | AF26: =他の建築主入力!F15 -> 0
A27: [ | B27: ３． 設計者 ] | AF27: （３）
B28: （代表となる設計者） | AF28: =他の建築主入力!F20 -> 0
B29: [ｲ． 資格] | H29: =IF(項目一覧!$C$22=0,"","("&項目一覧!$C$22&") 建築士 （"&項目一覧!$C$23&"）登録 第 "&項目一覧!$C$24&" 号") -> () 建築士 （）登録 第 号 | AF29: =他の建築主入力!F21 -> 0
B30: [ﾛ． 氏名] | H30: =項目一覧!$C$25 | AF30: =他の建築主入力!F22 -> 0
B31: [ﾊ． 建築士事務所名] | H31: =IF(項目一覧!$C$27=0,"","("&項目一覧!$C$27&") 建築士事務所 （"&項目一覧!$C$28&"）知事登録 第 "&項目一覧!$C$29&" 号") -> () 建築士事務所 （）知事登録 第 号 | AF31: =他の建築主入力!F23 -> 0
H32: =項目一覧!$C$30
B33: [ﾆ． 郵便番号] | H33: =項目一覧!$C$31
B34: [ﾎ． 所在地] | H34: =項目一覧!$C$32
B35: [ﾍ． 電話番号] | H35: =項目一覧!$C$33
B36: [ﾄ． 作成又は確認した設計図書] | J36: =項目一覧!$C$35
B38: （その他の設計者）
B39: [ｲ． 資格] | H39: =IF(項目一覧!$C$189=0,"","("&項目一覧!$C$189&") 建築士 （"&項目一覧!$C$190&"）登録 第 "&項目一覧!$C$191&" 号") -> () 建築士 （）登録 第 号 | AF39: =他の建築主入力!F30 -> 0
B40: [ﾛ． 氏名] | H40: =項目一覧!$C$192 | AF40: =他の建築主入力!F31 -> 0
B41: [ﾊ． 建築士事務所名] | H41: =IF(項目一覧!$C$194=0,"","("&項目一覧!$C$194&") 建築士事務所 （"&項目一覧!$C$195&"）知事登録 第 "&項目一覧!$C$196&" 号") -> () 建築士事務所 （）知事登録 第 号 | AF41: =他の建築主入力!F32 -> 0
H42: =項目一覧!$C$197
B43: [ﾆ． 郵便番号] | H43: =項目一覧!$C$198
B44: [ﾎ． 所在地] | H44: =項目一覧!$C$199
B45: [ﾍ． 電話番号] | H45: =項目一覧!$C$200
...

Sheet 他の建築主(概要書用)
A1: 建築計画概要書（別紙） | M1: 作業メニュー
A2: 建築計画概要書（別紙）
B4: 建築主等の概要
A5: [ | B5: １． 他の建築主（１） ]
B6: [ｲ． 氏名のフリガナ] | I6: =項目一覧!$C$174
B7: [ﾛ． 氏名] | I7: =項目一覧!$C$173
B8: [ﾊ． 郵便番号] | I8: =項目一覧!$C$175
B9: [ﾆ． 住所] | I9: =項目一覧!$C$176
A12: [ | B12: １． 他の建築主（2） ]
B13: [ｲ． 氏名のフリガナ] | I13: =項目一覧!$C$179
B14: [ﾛ． 氏名] | I14: =項目一覧!$C$178
B15: [ﾊ． 郵便番号] | I15: =項目一覧!$C$180
B16: [ﾆ． 住所] | I16: =項目一覧!$C$181
A19: [ | B19: １． 他の建築主（3） ]
B20: [ｲ． 氏名のフリガナ] | I20: =項目一覧!$C$185
B21: [ﾛ． 氏名] | I21: =項目一覧!$C$184
B22: [ﾊ． 郵便番号] | I22: =項目一覧!$C$186
B23: [ﾆ． 住所] | I23: =項目一覧!$C$187

Sheet 建築工事届（別記第40号様式）
A1: 建築工事届 | X1: 作業メニュー | AC1: ※直接入力してください
A2: 第四十号様式（第八条関係）（Ａ４）
A5: 建築基準法第15条第１項の規定による
A7: 建築工事届
A9: （第一面）
AC11: 年 | AF11: 月 | AI11: 日
M13: 知事 様
A16: 建築主
D17: 氏名 | I17: =IF(項目一覧!$C$4=0,"",項目一覧!$C$4) | AP17: 建築主ごとに住所が異なる場合に対応しておりません。
D18: 郵便番号 | I18: =項目一覧!$C$6 | AP18: 左側画面に上書きで入力し、修正してください。
D19: 住所 | I19: =項目一覧!$C$7
D20: 電話番号 | I20: =項目一覧!$C$8 | AP20: －－－以下は「他の建築主」より参照－－－
A22: 工事施工者（設計者又は代理者） | AN22: (1) | AP22: =他の建築主入力!S8 -> 0
D23: 氏名 | I23: =項目一覧!$C$55 | AP23: =他の建築主入力!S9 -> 0
D24: 営業所名（建築士事務所名） | P24: =項目一覧!$C$59 | AP24: =他の建築主入力!S10 -> 0
D25: 郵便番号 | I25: =項目一覧!$C$60 | AP25: =他の建築主入力!S11 -> 0
D26: 所在地 | I26: =項目一覧!$C$61 | AN26: (2) | AP26: =他の建築主入力!S16 -> 0
D27: 電話番号 | I27: =項目一覧!$C$62 | AP27: =他の建築主入力!S17 -> 0
D28: 担当者の氏名 | AP28: =他の建築主入力!S18 -> 0
D29: 担当者の電話番号 | P29: - | V29: - | AP29: =他の建築主入力!S19 -> 0
A31: 工事監理者 | AN31: (3) | AP31: =他の建築主入力!S23 -> 0
D32: 氏名 | I32: =項目一覧!$C$46 | AP32: =他の建築主入力!S24 -> 0
D33: 営業所名（建築士事務所名） | P33: =項目一覧!$C$50 | AP33: =他の建築主入力!S25 -> 0
D34: 郵便番号 | I34: =項目一覧!$C$51 | AP34: =他の建築主入力!S26 -> 0
D35: 所在地 | I35: =項目一覧!$C$52 | AP35: =他の建築主入力!S27 -> 0
D36: 電話番号 | I36: =項目一覧!$C$53
A38: 建築確認
D39: 確認済証番号 | O39: 第 | AD39: 号
D40: 確認済証交付年月日 | R40: 年 | W40: 月 | AB40: 日
D41: 確認済証交付者 | L41: 株式会社東日本住宅評価センター
A43: 除却工事施工者
D44: 氏名
D45: 営業所名
D46: 郵便番号 | N46: -
D47: 所在地
D48: 電話番号 | N48: - | T48: -
D49: 担当者の氏名
D50: 担当者の電話番号 | P50: - | V50: -
A53: ※受付経由機関記載欄
A57: （第二面）
...

Sheet 建築物除却届（別記第41号様式）
A1: 建築物除却届 | X1: 作業メニュー | AC1: ※直接入力してください
A2: 第四十一号様式（第八条関係）（Ａ４）
A5: 建築基準法第15条第１項の規定による
A7: 建築物除却届
A9: （第一面）
Y16: 年 | AB16: 月 | AE16: 日
K20: 知事 様
B24: 除却工事施工者
B26: 氏名
B28: 営業所名
B30: 郵便番号 | O30: -
B32: 所在地
B34: 電話番号 | M34: - | R34: -
B36: 担当者の氏名
B38: 担当者の電話番号 | M38: - | R38: -
B42: ※受付経由機関記載欄
A76: （第二面）
B79: 【１．物件名】
B83: 【２．除却予定期日】 | T83: 年 | Y83: 月 | AD83: 日
M86: =IF(項目一覧!$C$69=0,"",IF(項目一覧!$C$71=0,項目一覧!$C$69&項目一覧!$C$70,項目一覧!$C$69&項目一覧!$C$70&項目一覧!$C$71))
B87: 【３．除却場所】
B91: 【４．主要用途】 | X91: （注意欄に記載の記号を 記入してください）
B95: 【５．除却原因】 | O95: (1)老朽して危険があるため | AA95: (2)その他
B99: 【６．構造】 | O99: (1)木造 | AA99: (2)その他
B103: 【７．建築物の数】 | AD103: 棟
B107: 【８．住宅の戸数】 | AD107: 戸
B111: 【９．建築物の床面積の合計】 | AD111: ㎡
B115: 【10．建築物の評価額】 | AD115: 万円

Sheet 計画変更確認申請書
A1: 計画変更確認申請書（建築物）申請者複数 | U1: 作業メニュー | AD1: ※入力項目があります
B3: =IF(作業メニュー!AM13=TRUE, "第四十二号の二様式（第八条の二の二関係）（Ａ４）", "第四号様式（第一条の三、第三条、第三条の三関係）") -> 第四号様式（第一条の三、第三条、第三条の三関係）
I4: =IF(作業メニュー!AM13=TRUE, "建築基準法第18条第２項又は第４項の規定による ", "")
B5: =IF(作業メニュー!AM13=TRUE, "計画変更通知書 （建築物）", "計画変更確認申請書 （建築物）") -> 計画変更確認申請書 （建築物）
A7: （第一面）
C9: =IF(作業メニュー!AM13=TRUE, " 建築基準法第18条第２項又は第４項の規定により計画の変更を通知します。", " 建築基準法第６条第１項又は第６条の２第１項の規定による計画の変更の確認を申請します。 この申請書及び添付図書に記載の事項は、事実に相違ありません。") -> 建築基準法第６条第１項又は第６条の２第１項の規定による計画の変更の確認を申請します。 この申請書及び添付図書に記載の事項は、事実に相違ありません。
C14: =IF('確認申請書（建築）入力'!$M$4=0,"",'確認申請書（建築）入力'!$M$4) -> 指定確認検査機関 株式会社東日本住宅評価センター 様
T16: =IF(作業メニュー!AM13=TRUE, "第", "") | Z16: =IF(作業メニュー!AM13=TRUE, "号", "")
S17: =IF($AK$18=""," 年 月 日",IF(DATE(2019,5,1)>$AK$18,$AK$18,"令和"&IF(YEAR($AK$18)-2018=1,"元",YEAR($AK$18)-2018)&"年"&MONTH($AK$18)&"月"&DAY($AK$18)&"日")) -> 年 月 日 | AC17: 入力してください→
AC18: 計画変更申請日
AC19: （記入例： ２０１９年６月７日 ）
J20: =IF(作業メニュー!AM13=TRUE, " 通 知 者 官 職", " 申 請 者 氏 名") -> 申 請 者 氏 名 | P20: =項目一覧!$C$4
M22: =IF(AJ22=TRUE,"氏名 ","") | P22: =IF(AJ22=TRUE,項目一覧!$C$173,"") | AJ22: FALSE
M24: =IF(AJ24=TRUE,"氏名 ","") | P24: =IF(AJ24=TRUE,項目一覧!$C$178,"") | AJ24: FALSE
M26: =IF(AJ26=TRUE,"氏名 ","") | P26: =IF(AJ26=TRUE,項目一覧!$C$184,"") | AJ26: FALSE
P30: =項目一覧!$C$30
J31: 設 計 者 氏 名 | P31: =項目一覧!$C$25
D34: =IF(作業メニュー!AM13=TRUE, "[計画を変更する建築物の直前の審査]", "[計画を変更する建築物の直前の確認]") -> [計画を変更する建築物の直前の確認] | AD34: 入力してください→
E35: [確認済証番号] | L35: =$AK$35 -> 0 | AD35: [確認済証番号]
E36: [確認済証交付年月日] | L36: =IF($AK$36=""," 年 月 日",IF(DATE(2019,5,1)>$AK$36,$AK$36,"令和"&IF(YEAR($AK$36)-2018=1,"元",YEAR($AK$36)-2018)&"年"&MONTH($AK$36)&"月"&DAY($AK$36)&"日")) -> 年 月 日 | AD36: [確認済証交付年月日]
E37: [確認済証交付者] | L37: =$AK$37 -> 0 | AD37: [確認済証交付者]
E38: [計画変更の概要] | L38: =$AK$38 -> 0 | AD38: [計画変更の概要]
B40: ※ 受付欄 | I40: =IF(作業メニュー!AM13=TRUE, "※ 消防関係通知欄", "※ 消防関係同意欄") -> ※ 消防関係同意欄 | O40: ※ 決裁欄 | U40: ※ 確認番号欄
I41: =IF(AJ26=TRUE," 氏 名 ","") | O41: 別紙による | U41: 年 月 日
U42: 第 東日本 号
U45: 日付、番号は別紙による
A48: （第二面）
B49: 建築主等の概要
A50: [ | B50: １． 建築主 ]
B51: [ｲ． 氏名のフリガナ] | H51: =IF(項目一覧!$C$21=0,"",項目一覧!$C$21&" ")&IF(項目一覧!$C$5=0,"",項目一覧!$C$5)
B52: [ﾛ． 氏名] | H52: =IF(項目一覧!$C$183=0,"",項目一覧!$C$183&" ")&IF(項目一覧!$C$4=0,"",項目一覧!$C$4)
B53: [ﾊ． 郵便番号] | H53: =項目一覧!$C$6
B54: [ﾆ． 住所] | H54: =項目一覧!$C$7
B55: [ﾎ． 電話番号] | H55: =項目一覧!$C$8
A56: [ | B56: ２． 代理者 ]
B57: [ｲ． 資格] | H57: =IF(項目一覧!$C$9=0,"","("&項目一覧!$C$9&") 建築士 （"&項目一覧!$C$10&"）登録 第 "&項目一覧!$C$11&" 号") -> () 建築士 （）登録 第 号
B58: [ﾛ． 氏名] | H58: =項目一覧!$C$12
B59: [ﾊ． 建築士事務所名] | H59: =IF(項目一覧!$C$13=0,"","("&項目一覧!$C$13&") 建築士事務所 （"&項目一覧!$C$14&"）知事登録 第 "&項目一覧!$C$15&" 号") -> () 建築士事務所 （）知事登録 第 号
H60: =項目一覧!$C$16
B61: [ﾆ． 郵便番号] | H61: =項目一覧!$C$17
...

Sheet 中間検査申請書
A1: 中間検査申請書 申請者複数 | U1: 作業メニュー | AD1: ※入力項目があります
B3: =IF(作業メニュー!AM13=TRUE, "第四十二号の十七様式（第八条の二の二関係）（Ａ４） ", "第二十六号様式（第四条の八、第四条の十一の二関係）") -> 第二十六号様式（第四条の八、第四条の十一の二関係）
A5: =IF(作業メニュー!AM13=TRUE, "特定工程工事終了通知書", "中間検査申請書") -> 中間検査申請書
A6: （第一面）
A8: =IF(作業メニュー!AM13=TRUE, " 特定工程に係る工事を終えましたので、建築基準法第18条第28項又は第32項（同法第87条の４又は第88条第１項において準用する場合を含む。）の規定により、通知します。 ", " 建築基準法第７条の３第１項又は第７条の４第１項（これらの規定を同法第87条の４又は第88条第１項において準用する場合を含む。）の規定により検査を申請します。この申請書及び添付図書に記載の事項は、事実に相違ありません。") -> 建築基準法第７条の３第１項又は第７条の４第１項（これらの規定を同法第87条の４又は第88条第１項において準用する場合を含む。）の規定により検査を申請します。この申請書及び添付図書に記載の事項は、事実に相違ありません。
B14: =IF('確認申請書（建築）入力'!$M$4=0,"",'確認申請書（建築）入力'!$M$4) -> 指定確認検査機関 株式会社東日本住宅評価センター 様
T16: =IF(作業メニュー!AM13=TRUE, "第", "") | Z16: =IF(作業メニュー!AM13=TRUE, "号", "") | AE16: 入力してください→
R17: =IF($AK$17=""," 年 月 日","令和"&IF(YEAR($AK$17)-2018=1,"元",YEAR($AK$17)-2018)&"年"&MONTH($AK$17)&"月"&DAY($AK$17)&"日") -> 年 月 日 | AE17: 中間検査申請日
AE18: （記入例： ２０１９年６月７日 ）
O19: =項目一覧!$C$183
J20: =IF(作業メニュー!AM13=TRUE, " 通 知 者 官 職", "申 請 者 氏 名") -> 申 請 者 氏 名 | O20: =項目一覧!$C$4
I22: =IF(AD22=TRUE," 氏 名","") | O22: =IF(AD22=TRUE,項目一覧!$C$173,"") | AD22: FALSE
I24: =IF(AD24=TRUE," 氏 名","") | O24: =IF(AD24=TRUE,項目一覧!$C$178,"") | AD24: FALSE
I26: =IF(AD26=TRUE," 氏 名","") | O26: =IF(AD26=TRUE,項目一覧!$C$184,"") | AD26: FALSE
A32: 第四面に記載の事項は、事実に相違ありません。
O35: =項目一覧!$C$50
I36: 工事監理者 氏 名 | O36: =項目一覧!$C$46
B39: =IF(作業メニュー!AM13=TRUE, "[検査を受ける建築物等]", "[検査を申請する建築物等]") -> [検査を申請する建築物等] | AE39: 選択してください↓
C40: =IF(AO40=2,"■","□") -> □ | D40: 建築物 | K40: =IF(AO40=3,"■","□") -> □ | L40: 建築設備（昇降機） | S40: =IF(AO40=4,"■","□") -> □ | T40: 建築設備（昇降機以外） | AO40: 1
C41: =IF(AO40=5,"■","□") -> □ | D41: 工作物（昇降機） | K41: =IF(AO40=6,"■","□") -> □ | L41: 工作物（法第８８条第１項）
A42: ※受付欄 | G42: ※検査の特例欄 | K42: ※検査欄 | Q42: ※決裁欄 | V42: ※合格番号欄
K43: 別紙による | Q43: 別紙による | V43: 年 月 日
V44: 第 東日本 号
V45: 日付、番号は別紙による
A50: （第二面）
B51: 建築主、設置者又は築造主等の概要
A52: [ | B52: １． 建築主、設置者又は築造主 ]
B53: [ｲ． 氏名のフリガナ] | H53: =IF(項目一覧!$C$21=0,"",項目一覧!$C$21&" ")&IF(項目一覧!$C$5=0,"",項目一覧!$C$5)
B54: [ﾛ． 氏名] | H54: =IF(項目一覧!$C$183=0,"",項目一覧!$C$183&" ")&IF(項目一覧!$C$4=0,"",項目一覧!$C$4)
B55: [ﾊ． 郵便番号] | H55: =項目一覧!$C$6
B56: [ﾆ． 住所] | H56: =項目一覧!$C$7
B57: [ﾎ． 電話番号] | H57: =項目一覧!$C$8
A58: [ | B58: ２． 代理者 ]
B59: [ｲ． 資格] | H59: =IF(項目一覧!$C$9=0,"","("&項目一覧!$C$9&") 建築士 （"&項目一覧!$C$10&"）登録 第 "&項目一覧!$C$11&" 号") -> () 建築士 （）登録 第 号
B60: [ﾛ． 氏名] | H60: =項目一覧!$C$12
B61: [ﾊ． 建築士事務所名] | H61: =IF(項目一覧!$C$13=0,"","("&項目一覧!$C$13&") 建築士事務所 （"&項目一覧!$C$14&"）知事登録 第 "&項目一覧!$C$15&" 号") -> () 建築士事務所 （）知事登録 第 号
H62: =項目一覧!$C$16
B63: [ﾆ． 郵便番号] | H63: =項目一覧!$C$17
B64: [ﾎ． 所在地] | H64: =項目一覧!$C$18
B65: [ﾍ． 電話番号] | H65: =項目一覧!$C$19
...

Sheet 完了検査申請書
A1: 完了検査申請書 申請者複数 | Q1: 作業メニュー | AD1: ※入力項目があります
B3: =IF(作業メニュー!AM13=TRUE, "第四十二号の十三様式（第八条の二の二関係）（Ａ４） ", "第十九号様式（第四条、第四条の四の二関係）") -> 第十九号様式（第四条、第四条の四の二関係）
A5: =IF(作業メニュー!AM13=TRUE, "工事完了通知書", "完了検査申請書") -> 完了検査申請書
A7: （第一面）
A9: =IF(作業メニュー!AM13=TRUE, " 工事を完了しましたので、建築基準法第18条第20項又は第23項（同法第87条の４又は第88条第１項若しくは第２項において準用する場合を含む。）の規定により、通知します。 ", " 建築基準法第７条第１項又は第７条の２第１項（これらの規定を同法第87条の４又は第88条第１項若しくは第２項において準用する場合を含む。）の規定により検査を申請します。この申請書及び添付図書に記載の事項は、事実に相違ありません。") -> 建築基準法第７条第１項又は第７条の２第１項（これらの規定を同法第87条の４又は第88条第１項若しくは第２項において準用する場合を含む。）の規定により検査を申請します。この申請書及び添付図書に記載の事項は、事実に相違ありません。
B17: =IF('確認申請書（建築）入力'!$M$4=0,"",'確認申請書（建築）入力'!$M$4) -> 指定確認検査機関 株式会社東日本住宅評価センター 様
U18: =IF(作業メニュー!AM13=TRUE, "第", "") | AA18: =IF(作業メニュー!AM13=TRUE, "号", "") | AE18: 入力してください→
S19: =IF($AK$19=""," 年 月 日",IF(YEAR($AK$19)-2018>0,"令和"&IF(YEAR($AK$19)-2018=1,"元",YEAR($AK$19)-2018)&"年"&MONTH($AK$19)&"月"&DAY($AK$19)&"日")) -> 年 月 日 | AE19: 完了検査申請日
AE20: （記入例： ２０１９年６月７日 ）
O22: =項目一覧!$C$183
J23: =IF(作業メニュー!AM13=TRUE, " 通 知 者 官 職", "申 請 者 氏 名") -> 申 請 者 氏 名 | O23: =項目一覧!$C$4
I25: =IF(AD25=TRUE," 氏 名","") | O25: =IF(AD25=TRUE,項目一覧!$C$173,"") | AD25: FALSE
I27: =IF(AD27=TRUE," 氏 名","") | O27: =IF(AD27=TRUE,項目一覧!$C$178,"") | AD27: FALSE
I29: =IF(AD29=TRUE," 氏 名","") | O29: =IF(AD29=TRUE,項目一覧!$C$184,"") | AD29: FALSE
A38: 第四面に記載の事項は、事実に相違ありません。
O40: =項目一覧!$C$50
I41: 工事監理者 氏 名 | O41: =項目一覧!$C$46
B43: =IF(作業メニュー!AM13=TRUE, "[検査を受ける建築物等]", "[検査を申請する建築物等]") -> [検査を申請する建築物等] | AF43: 選択してください↓
C44: =IF(AR44=2,"■","□") -> □ | D44: 建築物 | L44: =IF(AR44=3,"■","□") -> □ | M44: 建築設備（昇降機） | U44: =IF(AR44=4,"■","□") -> □ | V44: 建築設備（昇降機以外） | AR44: 1
C45: =IF(AR44=5,"■","□") -> □ | D45: 工作物（昇降機） | L45: =IF(AR44=6,"■","□") -> □ | M45: 工作物（法第８８条第１項） | U45: =IF(AR44=7,"■","□") -> □ | V45: 工作物（法第８８条第２項）
A47: ※受付欄 | G47: ※検査の特例欄 | K47: ※検査欄 | Q47: ※決裁欄 | V47: ※検査済番号欄
K48: 別紙による | Q48: 別紙による | V48: 年 月 日
V49: 第 東日本 号
V50: 日付、番号は別紙による
A52: （第二面）
B53: 建築主、設置者又は築造主等の概要
A54: [ | B54: １． 建築主、設置者又は築造主 ]
B55: [ｲ． 氏名のフリガナ] | H55: =IF(項目一覧!$C$21=0,"",項目一覧!$C$21&" ")&IF(項目一覧!$C$5=0,"",項目一覧!$C$5)
B56: [ﾛ． 氏名] | H56: =IF(項目一覧!$C$183=0,"",項目一覧!$C$183&" ")&IF(項目一覧!$C$4=0,"",項目一覧!$C$4)
B57: [ﾊ． 郵便番号] | H57: =項目一覧!$C$6
B58: [ﾆ． 住所] | H58: =項目一覧!$C$7
B59: [ﾎ． 電話番号] | H59: =項目一覧!$C$8
A60: [ | B60: ２． 代理者 ]
B61: [ｲ． 資格] | H61: =IF(項目一覧!$C$9=0,"","("&項目一覧!$C$9&") 建築士 （"&項目一覧!$C$10&"）登録 第 "&項目一覧!$C$11&" 号") -> () 建築士 （）登録 第 号
B62: [ﾛ． 氏名] | H62: =項目一覧!$C$12
B63: [ﾊ． 建築士事務所名] | H63: =IF(項目一覧!$C$13=0,"","("&項目一覧!$C$13&") 建築士事務所 （"&項目一覧!$C$14&"）知事登録 第 "&項目一覧!$C$15&" 号") -> () 建築士事務所 （）知事登録 第 号
H64: =項目一覧!$C$16
B65: [ﾆ． 郵便番号] | H65: =項目一覧!$C$17
B66: [ﾎ． 所在地] | H66: =項目一覧!$C$18
B67: [ﾍ． 電話番号] | H67: =項目一覧!$C$19
...

Sheet 確認（昇降機）
A1: 確認申請書（昇降機） | Q1: 作業メニュー | AE1: ※直接入力してください
B3: =IF(作業メニュー!AM13=TRUE, "第四十二号の七様式（第八条の二の二、第八条の二の五及び第八条の二の六関係） （昇降機用）（Ａ４）", "第八号様式（第一条の三、第二条の二、第三条の三関係）（昇降機用）") -> 第八号様式（第一条の三、第二条の二、第三条の三関係）（昇降機用）
E4: =IF(作業メニュー!AM13=TRUE, "建築基準法第87条の４において準用する同法第18条第２項又は第４項の規定による", " ")
L5: =IF(作業メニュー!AM13=TRUE, "計画通知書 （昇降機）", "確認申請書 （昇降機）") -> 確認申請書 （昇降機）
N7: （第一面）
C9: =IF(作業メニュー!AM13=TRUE, "建築基準法第87条の４において準用する同法第18条第２項又は第４項の規定により計画を通知します。 ", " 建築基準法第87条の４において準用する同法第６条第１項又は第６条の２第１項の規定による確認を申請します。この申請書及び添付図書に記載の事項は、事実に相違ありません。") -> 建築基準法第87条の４において準用する同法第６条第１項又は第６条の２第１項の規定による確認を申請します。この申請書及び添付図書に記載の事項は、事実に相違ありません。
B15: =IF('確認申請書（建築）入力'!$M$4=0,"",'確認申請書（建築）入力'!$M$4) -> 指定確認検査機関 株式会社東日本住宅評価センター 様
W17: =IF(作業メニュー!AM13=TRUE, "第", "") | AB17: =IF(作業メニュー!AM13=TRUE, "号", "")
U18: 年 月 日
P24: =IF(項目一覧!$C$183=0,"",項目一覧!$C$183)
J25: =IF(作業メニュー!AM13=TRUE, " 通 知 者 官 職", " 申 請 者 氏 名") -> 申 請 者 氏 名 | P25: =IF(項目一覧!$C$4=0,"",項目一覧!$C$4)
B37: ※ 受付欄 | I37: ※ 決裁欄 | U37: ※ 確認番号欄
I38: 別紙による | U38: 年 月 日
U39: 第 東日本 号
U40: 日付、番号は別紙による
A45: （第二面）
A46: [ | B46: １． 設置者 ]
B47: [ｲ． 氏名のフリガナ] | G47: =IF(項目一覧!$C$21=0,"",項目一覧!$C$21&" ")&IF(項目一覧!$C$5=0,"",項目一覧!$C$5)
B48: [ﾛ． 氏名] | G48: =IF(項目一覧!$C$183=0,"",項目一覧!$C$183&" ")&IF(項目一覧!$C$4=0,"",項目一覧!$C$4)
B49: [ﾊ． 郵便番号] | G49: =IF(項目一覧!$C$6=0,"",項目一覧!$C$6)
B50: [ﾆ． 住所] | G50: =IF(項目一覧!$C$7=0,"",項目一覧!$C$7)
B51: [ﾎ． 電話番号] | G51: =IF(項目一覧!$C$8=0,"",項目一覧!$C$8)
A52: [ | B52: ２． 代理者 ]
B53: [ｲ． 資格] | G53: =IF(項目一覧!$C$9=0,"","("&項目一覧!$C$9&") 建築士 （"&項目一覧!$C$10&"）登録 第 "&項目一覧!$C$11&" 号") -> () 建築士 （）登録 第 号
B54: [ﾛ． 氏名] | G54: =IF(項目一覧!$C$12=0,"",項目一覧!$C$12)
B55: [ﾊ． 建築士事務所名] | G55: =IF(項目一覧!$C$13=0,"","("&項目一覧!$C$13&") 建築士事務所 （"&項目一覧!$C$14&"）知事登録 第 "&項目一覧!$C$15&" 号") -> () 建築士事務所 （）知事登録 第 号
G56: =IF(項目一覧!$C$16=0,"",項目一覧!$C$16)
B57: [ﾆ． 郵便番号] | G57: =IF(項目一覧!$C$17=0,"",項目一覧!$C$17)
B58: [ﾎ． 所在地] | G58: =IF(項目一覧!$C$18=0,"",項目一覧!$C$18)
B59: [ﾍ． 電話番号] | G59: =IF(項目一覧!$C$19=0,"",項目一覧!$C$19)
A60: [ | B60: ３． 設計者 ]
B61: （代表となる設計者）
B62: [ｲ． 資格] | G62: =IF(項目一覧!$C$22=0,"","("&項目一覧!$C$22&") 建築士 （"&項目一覧!$C$23&"）登録 第 "&項目一覧!$C$24&" 号") -> () 建築士 （）登録 第 号
B63: [ﾛ． 氏名] | G63: =IF(項目一覧!$C$25=0,"",項目一覧!$C$25)
B64: [ﾊ． 建築士事務所名] | G64: =IF(項目一覧!$C$27=0,"","("&項目一覧!$C$27&") 建築士事務所 （"&項目一覧!$C$28&"）知事登録 第 "&項目一覧!$C$29&" 号") -> () 建築士事務所 （）知事登録 第 号
G65: =IF(項目一覧!$C$30=0,"",項目一覧!$C$30)
B66: [ﾆ． 郵便番号] | G66: =IF(項目一覧!$C$31=0,"",項目一覧!$C$31)
B67: [ﾎ． 所在地] | G67: =IF(項目一覧!$C$32=0,"",項目一覧!$C$32)
B68: [ﾍ． 電話番号] | G68: =IF(項目一覧!$C$33=0,"",項目一覧!$C$33)
B69: [ﾄ． 作成した設計図書] | G69: =IF(項目一覧!$C$35=0,"",項目一覧!$C$35)
...

Sheet 他の設置者
A1: 確認申請書別紙（他の設置者）印刷画面 | T1: 作業メニュー
B3: 別紙
A4: [ | B4: １． 他の設置者（１） ]
B5: [ｲ． 氏名のフリガナ] | I5: =項目一覧!$C$174
B6: [ﾛ． 氏名] | I6: =項目一覧!$C$173
B7: [ﾊ． 郵便番号] | I7: =項目一覧!$C$175
B8: [ﾆ． 住所] | I8: =項目一覧!$C$176
B9: [ﾎ． 電話番号] | I9: =項目一覧!$C$177
A11: [ | B11: １． 他の設置者（2） ]
B12: [ｲ． 氏名のフリガナ] | I12: =項目一覧!$C$179
B13: [ﾛ． 氏名] | I13: =項目一覧!$C$178
B14: [ﾊ． 郵便番号] | I14: =項目一覧!$C$180
B15: [ﾆ． 住所] | I15: =項目一覧!$C$181
B16: [ﾎ． 電話番号] | I16: =項目一覧!$C$182
A18: [ | B18: １． 他の設置者（3） ]
B19: [ｲ． 氏名のフリガナ] | I19: =項目一覧!$C$185
B20: [ﾛ． 氏名] | I20: =項目一覧!$C$184
B21: [ﾊ． 郵便番号] | I21: =項目一覧!$C$186
B22: [ﾆ． 住所] | I22: =項目一覧!$C$187
B23: [ﾎ． 電話番号] | I23: =項目一覧!$C$188

Sheet 計画変更（昇降機）
A1: 計画変更確認申請書（昇降機） | Q1: 作業メニュー | AE1: ※直接入力してください
B3: =IF(作業メニュー!AM13=TRUE, "第四十二号の八様式（第八条の二の五関係）（昇降機用）（Ａ４） ", "第九号様式（第二条の二、第三条の三関係）（昇降機用）") -> 第九号様式（第二条の二、第三条の三関係）（昇降機用）
E4: =IF(作業メニュー!AM13=TRUE, "建築基準法第87条の４において準用する同法第18条第２項又は第４項の規定による", "")
B5: =IF(作業メニュー!AM13=TRUE, "計画変更通知書 （昇降機）", "計画変更確認申請書 （昇降機）") -> 計画変更確認申請書 （昇降機）
N7: （第一面）
C9: =IF(作業メニュー!AM13=TRUE, " 建築基準法第87条の４において準用する同法第18条第２項又は第４項の規定により計画の変更を通知します。", " 建築基準法第87条の４において準用する同法第６条第１項又は第６条の２第１項の規定による計画の変更の確認を申請します。この申請書及び添付図書に記載の事項は、事実に相違ありません。") -> 建築基準法第87条の４において準用する同法第６条第１項又は第６条の２第１項の規定による計画の変更の確認を申請します。この申請書及び添付図書に記載の事項は、事実に相違ありません。
B15: =IF('確認申請書（建築）入力'!$M$4=0,"",'確認申請書（建築）入力'!$M$4) -> 指定確認検査機関 株式会社東日本住宅評価センター 様
W17: =IF(作業メニュー!AM13=TRUE, "第", "") | AB17: =IF(作業メニュー!AM13=TRUE, "号", "")
U18: 年 月 日
P23: =IF(項目一覧!$C$183=0,"",項目一覧!$C$183)
J24: =IF(作業メニュー!AM13=TRUE, " 通 知 者 官 職", " 申 請 者 氏 名") -> 申 請 者 氏 名 | P24: =IF(項目一覧!$C$4=0,"",項目一覧!$C$4)
C31: =IF(作業メニュー!AM13=TRUE, "[計画を変更する昇降機の直前の審査]", "[計画を変更する昇降機の直前の確認]") -> [計画を変更する昇降機の直前の確認]
D32: [確認済証番号] | M32: 第東日本 | V32: 号
D33: [確認済証交付年月日] | P33: 年 | S33: 月 | V33: 日
D34: [確認済証交付者] | M34: 株式会社 東日本住宅評価センター
D35: [計画変更の概要]
B37: ※ 受付欄 | I37: ※ 決裁欄 | U37: ※ 確認番号欄
I38: 別紙による | U38: 年 月 日
U39: 第 東日本 号
U40: 日付、番号は別紙による
A45: （第二面）
A46: [ | B46: １． 設置者 ]
B47: [ｲ． 氏名のフリガナ] | G47: =IF(項目一覧!$C$21=0,"",項目一覧!$C$21&" ")&IF(項目一覧!$C$5=0,"",項目一覧!$C$5)
B48: [ﾛ． 氏名] | G48: =IF(項目一覧!$C$183=0,"",項目一覧!$C$183&" ")&IF(項目一覧!$C$4=0,"",項目一覧!$C$4)
B49: [ﾊ． 郵便番号] | G49: =IF(項目一覧!$C$6=0,"",項目一覧!$C$6)
B50: [ﾆ． 住所] | G50: =IF(項目一覧!$C$7=0,"",項目一覧!$C$7)
B51: [ﾎ． 電話番号] | G51: =IF(項目一覧!$C$8=0,"",項目一覧!$C$8)
A52: [ | B52: ２． 代理者 ]
B53: [ｲ． 資格] | G53: =IF(項目一覧!$C$9=0,"","("&項目一覧!$C$9&") 建築士 （"&項目一覧!$C$10&"）登録 第 "&項目一覧!$C$11&" 号") -> () 建築士 （）登録 第 号
B54: [ﾛ． 氏名] | G54: =IF(項目一覧!$C$12=0,"",項目一覧!$C$12)
B55: [ﾊ． 建築士事務所名] | G55: =IF(項目一覧!$C$13=0,"","("&項目一覧!$C$13&") 建築士事務所 （"&項目一覧!$C$14&"）知事登録 第 "&項目一覧!$C$15&" 号") -> () 建築士事務所 （）知事登録 第 号
G56: =IF(項目一覧!$C$16=0,"",項目一覧!$C$16)
B57: [ﾆ． 郵便番号] | G57: =IF(項目一覧!$C$17=0,"",項目一覧!$C$17)
B58: [ﾎ． 所在地] | G58: =IF(項目一覧!$C$18=0,"",項目一覧!$C$18)
B59: [ﾍ． 電話番号] | G59: =IF(項目一覧!$C$19=0,"",項目一覧!$C$19)
A60: [ | B60: ３． 設計者 ]
B61: （代表となる設計者）
B62: [ｲ． 資格] | G62: =IF(項目一覧!$C$22=0,"","("&項目一覧!$C$22&") 建築士 （"&項目一覧!$C$23&"）登録 第 "&項目一覧!$C$24&" 号") -> () 建築士 （）登録 第 号
B63: [ﾛ． 氏名] | G63: =IF(項目一覧!$C$25=0,"",項目一覧!$C$25)
B64: [ﾊ． 建築士事務所名] | G64: =IF(項目一覧!$C$27=0,"","("&項目一覧!$C$27&") 建築士事務所 （"&項目一覧!$C$28&"）知事登録 第 "&項目一覧!$C$29&" 号") -> () 建築士事務所 （）知事登録 第 号
...

Sheet 確認申請書（昇降機以外）
A1: 確認申請書 （昇降機以外の建築設備） | Q1: 作業メニュー | AC1: ※直接入力してください
B3: =IF(作業メニュー!AM13=TRUE, "第四十二号の七様式（第八条の二の二及び第八条の二の五関係）（昇降機以外の建築設備用）（Ａ４） ", " 第八号様式（第一条の三、第二条の二、第三条の三関係）（昇降機以外の建築設備用） ") -> 第八号様式（第一条の三、第二条の二、第三条の三関係）（昇降機以外の建築設備用）
C4: =IF(作業メニュー!AM13=TRUE, "建築基準法第87条の４において準用する同法第18条第２項又は第４項の規定による ", "")
B5: =IF(作業メニュー!AM13=TRUE, "計画通知書 （昇降機以外の建築設備） ", "確認申請書 （昇降機以外の建築設備） ") -> 確認申請書 （昇降機以外の建築設備）
N7: （第一面）
B9: =IF(作業メニュー!AM13=TRUE, " 建築基準法第87条の４において準用する同法第18条第２項又は第４項の規定により計画を通知します。", " 建築基準法第87条の４において準用する同法第６条第１項又は第６条の２第１項の規定による確認を申請します。この申請書及び添付図書に記載の事項は、事実に相違ありません。") -> 建築基準法第87条の４において準用する同法第６条第１項又は第６条の２第１項の規定による確認を申請します。この申請書及び添付図書に記載の事項は、事実に相違ありません。
B16: =IF('確認申請書（建築）入力'!$M$4=0,"",'確認申請書（建築）入力'!$M$4) -> 指定確認検査機関 株式会社東日本住宅評価センター 様
V19: =IF(作業メニュー!AM13=TRUE, "第", "") | AA19: =IF(作業メニュー!AM13=TRUE, "号", "")
T20: 年 月 日
R26: =IF(項目一覧!$C$183=0,"",項目一覧!$C$183)
K27: =IF(作業メニュー!AM13=TRUE, " 通 知 者 官 職", " 申 請 者 氏 名") -> 申 請 者 氏 名 | R27: =IF(項目一覧!$C$4=0,"",項目一覧!$C$4)
C36: ※ 受付欄 | I36: ※ 決裁欄 | U36: ※ 確認番号欄
I37: 別紙による | U37: 年 月 日
U38: 第 | V38: 東日本
Z39: 号
U40: 日付、番号は別紙による
A43: （第二面）
A45: [ | B45: １． 設置者 ]
B46: [ｲ． 氏名のフリガナ] | G46: =IF(項目一覧!$C$21=0,"",項目一覧!$C$21&" ")&IF(項目一覧!$C$5=0,"",項目一覧!$C$5)
B47: [ﾛ． 氏名] | G47: =IF(項目一覧!$C$183=0,"",項目一覧!$C$183&" ")&IF(項目一覧!$C$4=0,"",項目一覧!$C$4)
B48: [ﾊ． 郵便番号] | G48: =IF(項目一覧!$C$6=0,"",項目一覧!$C$6)
B49: [ﾆ． 住所] | G49: =IF(項目一覧!$C$7=0,"",項目一覧!$C$7)
B50: [ﾎ． 電話番号] | G50: =IF(項目一覧!$C$8=0,"",項目一覧!$C$8)
A51: [ | B51: ２． 代理者 ]
B52: [ｲ． 資格] | G52: =IF(項目一覧!$C$9=0,"","("&項目一覧!$C$9&") 建築士 （"&項目一覧!$C$10&"）登録 第 "&項目一覧!$C$11&" 号") -> () 建築士 （）登録 第 号
B53: [ﾛ． 氏名] | G53: =IF(項目一覧!$C$12=0,"",項目一覧!$C$12)
B54: [ﾊ． 建築士事務所名] | G54: =IF(項目一覧!$C$12=0,"","("&項目一覧!$C$13&") 建築士事務所 （"&項目一覧!$C$14&"）知事登録 第 "&項目一覧!$C$15&" 号") -> () 建築士事務所 （）知事登録 第 号
G55: =IF(項目一覧!$C$16=0,"",項目一覧!$C$16)
B56: [ﾆ． 郵便番号] | G56: =IF(項目一覧!$C$17=0,"",項目一覧!$C$17)
B57: [ﾎ． 所在地] | G57: =IF(項目一覧!$C$18=0,"",項目一覧!$C$18)
B58: [ﾍ． 電話番号] | G58: =IF(項目一覧!$C$19=0,"",項目一覧!$C$19)
A59: [ | B59: ３． 設計者 ]
B60: （代表となる設計者）
B61: [ｲ． 資格] | G61: =IF(項目一覧!$C$22=0,"","("&項目一覧!$C$22&") 建築士 （"&項目一覧!$C$23&"）登録 第 "&項目一覧!$C$24&" 号") -> () 建築士 （）登録 第 号
B62: [ﾛ． 氏名] | G62: =IF(項目一覧!$C$25=0,"",項目一覧!$C$25)
B63: [ﾊ． 建築士事務所名] | G63: =IF(項目一覧!$C$27=0,"","("&項目一覧!$C$27&") 建築士事務所 （"&項目一覧!$C$28&"）知事登録 第 "&項目一覧!$C$29&" 号") -> () 建築士事務所 （）知事登録 第 号
G64: =IF(項目一覧!$C$30=0,"",項目一覧!$C$30)
B65: [ﾆ． 郵便番号] | G65: =IF(項目一覧!$C$31=0,"",項目一覧!$C$31)
B66: [ﾎ． 所在地] | G66: =IF(項目一覧!$C$32=0,"",項目一覧!$C$32)
B67: [ﾍ． 電話番号] | G67: =IF(項目一覧!$C$33=0,"",項目一覧!$C$33)
...

Sheet 計画変更確認申請書（昇降機以外）
A1: 計画変更確認申請書 （昇降機以外の建築設備） | R1: 作業メニュー | AB1: ※直接入力してください
B3: =IF(作業メニュー!AM13=TRUE, "第四十二号の八様式（第八条の二の五関係）（昇降機以外の建築設備用）（Ａ４）", "第九号様式（第二条の二、第三条の三関係）（昇降機以外の建築設備用）") -> 第九号様式（第二条の二、第三条の三関係）（昇降機以外の建築設備用）
E4: =IF(作業メニュー!AM13=TRUE, "建築基準法第87条の４において準用する同法第18条第２項又は第４項の規定による", "")
B5: =IF(作業メニュー!AM13=TRUE, "計画変更通知書 （昇降機以外の建築設備）", "計画変更確認申請書 （昇降機以外の建築設備）") -> 計画変更確認申請書 （昇降機以外の建築設備）
N7: （第一面）
B9: =IF(作業メニュー!AM13=TRUE, " 建築基準法第87条の４において準用する同法第18条第２項又は第４項の規定により計画の変更を通知します。", " 建築基準法第87条の４において準用する同法第６条第１項又は第６条の２第１項の規定による計画の変更の確認を申請します。この申請書及び添付図書に記載の事項は、事実に相違ありません。") -> 建築基準法第87条の４において準用する同法第６条第１項又は第６条の２第１項の規定による計画の変更の確認を申請します。この申請書及び添付図書に記載の事項は、事実に相違ありません。
B15: =IF('確認申請書（建築）入力'!$M$4=0,"",'確認申請書（建築）入力'!$M$4) -> 指定確認検査機関 株式会社東日本住宅評価センター 様
T17: =IF(作業メニュー!AM13=TRUE, "第", "") | Y17: =IF(作業メニュー!AM13=TRUE, "号", "")
S18: 年 月 日
R22: =IF(項目一覧!$C$183=0,"",項目一覧!$C$183)
L23: =IF(作業メニュー!AM13=TRUE, " 通 知 者 官 職", " 申 請 者 氏 名") -> 申 請 者 氏 名 | R23: =IF(項目一覧!$C$4=0,"",項目一覧!$C$4)
C29: =IF(作業メニュー!AM13=TRUE, "[計画を変更する昇降機の直前の審査]", "[計画を変更する昇降機の直前の確認]") -> [計画を変更する昇降機の直前の確認]
D30: [確認済証番号] | M30: 第 東日本 | V30: 号
D31: [確認済証交付年月日] | P31: 年 | S31: 月 | V31: 日
D32: [確認済証交付者] | M32: 株式会社 東日本住宅評価センター
D33: [計画変更の概要]
C38: ※ 受付欄 | I38: ※ 決裁欄 | U38: ※ 確認番号欄
I39: 別紙による | U39: 年 月 日
U40: 第 | V40: 東日本
Z41: 号
U42: 日付、番号は別紙による
A46: （第二面）
A47: [ | B47: １． 設置者 ]
B48: [ｲ． 氏名のフリガナ] | G48: =IF(項目一覧!$C$21=0,"",項目一覧!$C$21&" ")&IF(項目一覧!$C$5=0,"",項目一覧!$C$5)
B49: [ﾛ． 氏名] | G49: =IF(項目一覧!$C$183=0,"",項目一覧!$C$183&" ")&IF(項目一覧!$C$4=0,"",項目一覧!$C$4)
B50: [ﾊ． 郵便番号] | G50: =IF(項目一覧!$C$6=0,"",項目一覧!$C$6)
B51: [ﾆ． 住所] | G51: =IF(項目一覧!$C$7=0,"",項目一覧!$C$7)
B52: [ﾎ． 電話番号] | G52: =IF(項目一覧!$C$8=0,"",項目一覧!$C$8)
A53: [ | B53: ２． 代理者 ]
B54: [ｲ． 資格] | G54: =IF(項目一覧!$C$9=0,"","("&項目一覧!$C$9&") 建築士 （"&項目一覧!$C$10&"）登録 第 "&項目一覧!$C$11&" 号") -> () 建築士 （）登録 第 号
B55: [ﾛ． 氏名] | G55: =IF(項目一覧!$C$12=0,"",項目一覧!$C$12)
B56: [ﾊ． 建築士事務所名] | G56: =IF(項目一覧!$C$9=0,"","("&項目一覧!$C$9&") 建築士事務所 （"&項目一覧!$C$10&"）知事登録 第 "&項目一覧!$C$11&" 号") -> () 建築士事務所 （）知事登録 第 号
G57: =IF(項目一覧!$C$16=0,"",項目一覧!$C$16)
B58: [ﾆ． 郵便番号] | G58: =IF(項目一覧!$C$17=0,"",項目一覧!$C$17)
B59: [ﾎ． 所在地] | G59: =IF(項目一覧!$C$18=0,"",項目一覧!$C$18)
B60: [ﾍ． 電話番号] | G60: =IF(項目一覧!$C$19=0,"",項目一覧!$C$19)
A61: [ | B61: ３． 設計者 ]
B62: （代表となる設計者）
B63: [ｲ． 資格] | G63: =IF(項目一覧!$C$22=0,"","("&項目一覧!$C$22&") 建築士 （"&項目一覧!$C$23&"）登録 第 "&項目一覧!$C$24&" 号") -> () 建築士 （）登録 第 号
B64: [ﾛ． 氏名] | G64: =IF(項目一覧!$C$25=0,"",項目一覧!$C$25)
...

Sheet 検査添付写真
A1: 検査申請書 添付写真（軸組仕口） | AG1: 作業メニュー | AJ1: ※直接入力してください
B4: 検査申請書 添付写真：「構造耐力上主要な部分の軸組、仕口その他の接合部、鉄筋部分等を写した写真」
R5: 確認済証番号：
M7: 建築物の名称： | R7: =IF(建築名称=0," 邸新築工事",建築名称)
B10: 基礎の配筋の
B11: 工事終了時
M18: （ここに写真を貼付してください）
B27: 撮影日時：
B31: 構造耐力上主要な
B32: 軸組若しくは耐力壁
B33: の工事終了時
M39: （ここに写真を貼付してください）
B48: 撮影日時：
B52: 屋根の小屋組
B53: の工事終了時
M60: （ここに写真を貼付してください）
B69: 撮影日時：
B73: 検査申請書 添付写真：「構造耐力上主要な部分の軸組、仕口その他の接合部、鉄筋部分等を写した写真」
R74: 確認済証番号： | AG74: =AG5 -> 0
M76: 建築物の名称： | R76: =IF('確認申請書（建築）入力'!$M$19=0," ",'確認申請書（建築）入力'!$M$19) & " 邸新築工事" -> 邸新築工事
B79: その他特定行政庁が
B80: 必要と認めて指定する
B81: 工程の終了時
M87: （ここに写真を貼付してください）
B96: 撮影日時：
B100: その他特定行政庁が
B101: 必要と認めて指定する
B102: 工程の終了時
M108: （ここに写真を貼付してください）
B117: 撮影日時：
B121: その他特定行政庁が
B122: 必要と認めて指定する
B123: 工程の終了時
M129: （ここに写真を貼付してください）
B138: 撮影日時：

Sheet 確認（工作物）
A1: 確認申請書（工作物１） | Q1: 作業メニュー | AE1: ※直接入力してください
B3: =IF(作業メニュー!AM13=TRUE, "第四十二号の九様式（第八条の二の六関係）（Ａ４）", "第十号様式（第三条、第三条の三関係）") -> 第十号様式（第三条、第三条の三関係）
F4: =IF(作業メニュー!AM13=TRUE, "建築基準法第88条第１項において準用する同法第18条第２項又は第４項の規定による ", "")
B5: =IF(作業メニュー!AM13=TRUE, "計画通知書 （工作物）", "確認申請書 （工作物）") -> 確認申請書 （工作物）
N7: （第一面）
C9: =IF(作業メニュー!AM13=TRUE, " 建築基準法第88条第１項において準用する同法第18条第２項又は第４項の規定により計画を通知します。", " 建築基準法第８８条第１項において準用する同法第６条第１項又は第６条の２第１項の規定による確認を申請します。この申請書及び添付図書に記載の事項は、事実に相違ありません。") -> 建築基準法第８８条第１項において準用する同法第６条第１項又は第６条の２第１項の規定による確認を申請します。この申請書及び添付図書に記載の事項は、事実に相違ありません。
B15: =IF('確認申請書（建築）入力'!$M$4=0,"",'確認申請書（建築）入力'!$M$4) -> 指定確認検査機関 株式会社東日本住宅評価センター 様
W17: =IF(作業メニュー!AM13=TRUE, "第", "") | AB17: =IF(作業メニュー!AM13=TRUE, "号", "")
U18: 年 月 日
P25: =IF(項目一覧!$C$183=0,"",項目一覧!$C$183)
J26: =IF(作業メニュー!AM13=TRUE, " 通 知 者 官 職", " 申 請 者 氏 名") -> 申 請 者 氏 名 | P26: =IF(項目一覧!$C$4=0,"",項目一覧!$C$4)
B38: ※ 受付欄 | I38: ※ 決裁欄 | U38: ※ 確認番号欄
I39: 別紙による | U39: 年 月 日
U40: 第 東日本 号
U41: 日付、番号は別紙による
A44: （第二面）
A46: [ | B46: １． 築造主 ]
B47: [ｲ． 氏名のフリガナ] | G47: =IF(項目一覧!$C$21=0,"",項目一覧!$C$21&" ")&IF(項目一覧!$C$5=0,"",項目一覧!$C$5)
B48: [ﾛ． 氏名] | G48: =IF(項目一覧!$C$183=0,"",項目一覧!$C$183&" ")&IF(項目一覧!$C$4=0,"",項目一覧!$C$4)
B49: [ﾊ． 郵便番号] | G49: =IF(項目一覧!$C$6=0,"",項目一覧!$C$6)
B50: [ﾆ． 住所] | G50: =IF(項目一覧!$C$7=0,"",項目一覧!$C$7)
B51: [ﾎ． 電話番号] | G51: =IF(項目一覧!$C$8=0,"",項目一覧!$C$8)
A52: [ | B52: ２． 代理者 ]
B53: [ｲ． 資格] | G53: =IF(項目一覧!$C$9=0,"","("&項目一覧!$C$9&") 建築士 （"&項目一覧!$C$10&"）登録 第 "&項目一覧!$C$11&" 号") -> () 建築士 （）登録 第 号
B54: [ﾛ． 氏名] | G54: =IF(項目一覧!$C$12=0,"",項目一覧!$C$12)
B55: [ﾊ． 建築士事務所名] | G55: =IF(項目一覧!$C$13=0,"","("&項目一覧!$C$13&") 建築士事務所 （"&項目一覧!$C$14&"）知事登録 第 "&項目一覧!$C$15&" 号") -> () 建築士事務所 （）知事登録 第 号
G56: =IF(項目一覧!$C$16=0,"",項目一覧!$C$16)
B57: [ﾆ． 郵便番号] | G57: =IF(項目一覧!$C$17=0,"",項目一覧!$C$17)
B58: [ﾎ． 所在地] | G58: =IF(項目一覧!$C$18=0,"",項目一覧!$C$18)
B59: [ﾍ． 電話番号] | G59: =IF(項目一覧!$C$19=0,"",項目一覧!$C$19)
A60: [ | B60: ３． 設計者 ]
B61: （代表となる設計者）
B62: [ｲ． 資格] | G62: =IF(項目一覧!$C$22=0,"","("&項目一覧!$C$22&") 建築士 （"&項目一覧!$C$23&"）登録 第 "&項目一覧!$C$24&" 号") -> () 建築士 （）登録 第 号
B63: [ﾛ． 氏名] | G63: =IF(項目一覧!$C$25=0,"",項目一覧!$C$25)
B64: [ﾊ． 建築士事務所名] | G64: =IF(項目一覧!$C$27=0,"","("&項目一覧!$C$27&") 建築士事務所 （"&項目一覧!$C$28&"）知事登録 第 "&項目一覧!$C$29&" 号") -> () 建築士事務所 （）知事登録 第 号
G65: =IF(項目一覧!$C$30=0,"",項目一覧!$C$30)
B66: [ﾆ． 郵便番号] | G66: =IF(項目一覧!$C$31=0,"",項目一覧!$C$31)
B67: [ﾎ． 所在地] | G67: =IF(項目一覧!$C$32=0,"",項目一覧!$C$32)
B68: [ﾍ． 電話番号] | G68: =IF(項目一覧!$C$33=0,"",項目一覧!$C$33)
B69: [ﾄ． 作成した設計図書] | G69: =IF(項目一覧!$C$35=0,"",項目一覧!$C$35)
...

Sheet 確認（工作物） (2)
A1: 確認申請書（工作物２） | Q1: 作業メニュー | AE1: ※直接入力してください
B3: =IF(作業メニュー!AM13=TRUE, "第四十二号の十様式（第八条の二の六関係）（Ａ４） ", "第十一号様式（第三条、第三条の三関係）") -> 第十一号様式（第三条、第三条の三関係）
E4: =IF(作業メニュー!AM13=TRUE, "建築基準法第88条第２項において準用する同法第18条第２項又は第４項の規定による", "")
B5: =IF(作業メニュー!AM13=TRUE, "計画通知書 （工作物）", "確認申請書 （工作物）") -> 確認申請書 （工作物）
N7: （第一面）
C9: =IF(作業メニュー!AM13=TRUE, " 建築基準法第８８条第２項において準用する同法第１８条第２項又は第４項の規定により計画を通知します。", " 建築基準法第８８条第２項において準用する同法第６条第１項又は第６条の２第１項の規定による確認を申請します。この申請書及び添付図書に記載の事項は、事実に相違ありません。") -> 建築基準法第８８条第２項において準用する同法第６条第１項又は第６条の２第１項の規定による確認を申請します。この申請書及び添付図書に記載の事項は、事実に相違ありません。
B15: =IF('確認申請書（建築）入力'!$M$4=0,"",'確認申請書（建築）入力'!$M$4) -> 指定確認検査機関 株式会社東日本住宅評価センター 様
W17: =IF(作業メニュー!AM13=TRUE, "第", "") | AB17: =IF(作業メニュー!AM13=TRUE, "号", "")
U18: 年 月 日
P25: =IF(項目一覧!$C$183=0,"",項目一覧!$C$183)
J26: =IF(作業メニュー!AM13=TRUE, " 通 知 者 官 職", " 申 請 者 氏 名") -> 申 請 者 氏 名 | P26: =IF(項目一覧!$C$4=0,"",項目一覧!$C$4)
B38: ※ 受付欄 | I38: ※ 決裁欄 | U38: ※ 確認番号欄
I39: 別紙による | U39: 年 月 日
U40: 第 東日本 号
U41: 日付、番号は別紙による
A46: （第二面）
A48: [ | B48: １． 築造主 ]
B49: [ｲ． 氏名のフリガナ] | G49: =IF(項目一覧!$C$21=0,"",項目一覧!$C$21&" ")&IF(項目一覧!$C$5=0,"",項目一覧!$C$5)
B50: [ﾛ． 氏名] | G50: =IF(項目一覧!$C$183=0,"",項目一覧!$C$183&" ")&IF(項目一覧!$C$4=0,"",項目一覧!$C$4)
B51: [ﾊ． 郵便番号] | G51: =IF(項目一覧!$C$6=0,"",項目一覧!$C$6)
B52: [ﾆ． 住所] | G52: =IF(項目一覧!$C$7=0,"",項目一覧!$C$7)
B53: [ﾎ． 電話番号] | G53: =IF(項目一覧!$C$8=0,"",項目一覧!$C$8)
A54: [ | B54: ２． 代理者 ]
B55: [ｲ． 資格] | G55: =IF(項目一覧!$C$9=0,"","("&項目一覧!$C$9&") 建築士 （"&項目一覧!$C$10&"）登録 第 "&項目一覧!$C$11&" 号") -> () 建築士 （）登録 第 号
B56: [ﾛ． 氏名] | G56: =IF(項目一覧!$C$12=0,"",項目一覧!$C$12)
B57: [ﾊ． 建築士事務所名] | G57: =IF(項目一覧!$C$13=0,"","("&項目一覧!$C$13&") 建築士事務所 （"&項目一覧!$C$14&"）知事登録 第 "&項目一覧!$C$15&" 号") -> () 建築士事務所 （）知事登録 第 号
G58: =IF(項目一覧!$C$16=0,"",項目一覧!$C$16)
B59: [ﾆ． 郵便番号] | G59: =IF(項目一覧!$C$17=0,"",項目一覧!$C$17)
B60: [ﾎ． 所在地] | G60: =IF(項目一覧!$C$18=0,"",項目一覧!$C$18)
B61: [ﾍ． 電話番号] | G61: =IF(項目一覧!$C$19=0,"",項目一覧!$C$19)
A62: [ | B62: ３． 設計者 ]
B63: （代表となる設計者）
B64: [ｲ． 資格] | G64: =IF(項目一覧!$C$22=0,"","("&項目一覧!$C$22&") 建築士 （"&項目一覧!$C$23&"）登録 第 "&項目一覧!$C$24&" 号") -> () 建築士 （）登録 第 号
B65: [ﾛ． 氏名] | G65: =IF(項目一覧!$C$25=0,"",項目一覧!$C$25)
B66: [ﾊ． 建築士事務所名] | G66: =IF(項目一覧!$C$27=0,"","("&項目一覧!$C$27&") 建築士事務所 （"&項目一覧!$C$28&"）知事登録 第 "&項目一覧!$C$29&" 号") -> () 建築士事務所 （）知事登録 第 号
G67: =IF(項目一覧!$C$30=0,"",項目一覧!$C$30)
B68: [ﾆ． 郵便番号] | G68: =IF(項目一覧!$C$31=0,"",項目一覧!$C$31)
B69: [ﾎ． 所在地] | G69: =IF(項目一覧!$C$32=0,"",項目一覧!$C$32)
B70: [ﾍ． 電話番号] | G70: =IF(項目一覧!$C$33=0,"",項目一覧!$C$33)
B71: [ﾄ． 作成した設計図書] | G71: =IF(項目一覧!$C$35=0,"",項目一覧!$C$35)
...

Sheet 他の築造主（申請書用）
A1: 確認申請書（工作物）＜別紙＞ | O1: 作業メニュー | T1: ※直接入力してください
B3: 別紙
A4: [ | B4: １． 他の築造主（１） ]
B5: [ｲ． 氏名のフリガナ] | H5: =建築主氏名2フリガナ
B6: [ﾛ． 氏名] | H6: =建築主氏名2
B7: [ﾊ． 郵便番号] | H7: =建築主郵便番号2
B8: [ﾆ． 住所] | H8: =建築主住所2
A11: [ | B11: １． 他の築造主（2） ]
B12: [ｲ． 氏名のフリガナ] | H12: =建築主氏名3フリガナ
B13: [ﾛ． 氏名] | H13: =建築主氏名3
B14: [ﾊ． 郵便番号] | H14: =建築主郵便番号3
B15: [ﾆ． 住所] | H15: =建築主住所3
A18: [ | B18: １． 他の築造主（3） ]
B19: [ｲ． 氏名のフリガナ] | H19: =建築主氏名4フリガナ
B20: [ﾛ． 氏名] | H20: =建築主氏名4
B21: [ﾊ． 郵便番号] | H21: =建築主郵便番号4
B22: [ﾆ． 住所] | H22: =建築主住所4

Sheet 他の築造主（概要書用）
A1: 築造計画概要書（別紙） | M1: 作業メニュー | R1: ※直接入力してください
A2: 築造計画概要書（別紙）
B4: 築造主等の概要
A5: [ | B5: １． 他の築造主（１） ]
B6: [ｲ． 氏名のフリガナ] | H6: =建築主氏名2フリガナ
B7: [ﾛ． 氏名] | H7: =建築主氏名2
B8: [ﾊ． 郵便番号] | H8: =建築主郵便番号2
B9: [ﾆ． 住所] | H9: =建築主住所2
A12: [ | B12: １． 他の築造主（2） ]
B13: [ｲ． 氏名のフリガナ] | H13: =建築主氏名3フリガナ
B14: [ﾛ． 氏名] | H14: =建築主氏名3
B15: [ﾊ． 郵便番号] | H15: =建築主郵便番号3
B16: [ﾆ． 住所] | H16: =建築主住所3
A19: [ | B19: １． 他の築造主（3） ]
B20: [ｲ． 氏名のフリガナ] | H20: =建築主氏名4フリガナ
B21: [ﾛ． 氏名] | H21: =建築主氏名4
B22: [ﾊ． 郵便番号] | H22: =建築主郵便番号4
B23: [ﾆ． 住所] | H23: =建築主住所4

Sheet 計画変更（工作物）
A1: 計画変更確認申請書（工作物１） | Q1: 作業メニュー | AD1: ※直接入力してください
B3: =IF(作業メニュー!AM13=TRUE, "第四十二号の十一様式（第八条の二の六関係）（Ａ４）", "第十三号様式（第三条、第三条の三関係）") -> 第十三号様式（第三条、第三条の三関係）
D4: =IF(作業メニュー!AM13=TRUE, "建築基準法第88条第１項において準用する同法第18条第２項又は第４項の規定による", "")
B5: =IF(作業メニュー!AM13=TRUE, "計画変更通知書 （工作物）", "計画変更確認申請書 （工作物）") -> 計画変更確認申請書 （工作物）
N7: （第一面）
C9: =IF(作業メニュー!AM13=TRUE, " 建築基準法第88条第１項において準用する同法第18条第２項又は第４項の規定により計画の変更を通知します。", " 建築基準法第８８条第１項において準用する同法第６条第１項又は第６条の２第１項の規定による計画の変更の確認を申請します。この申請書及び添付図書に記載の事項は、事実に相違ありません。") -> 建築基準法第８８条第１項において準用する同法第６条第１項又は第６条の２第１項の規定による計画の変更の確認を申請します。この申請書及び添付図書に記載の事項は、事実に相違ありません。
B16: =IF('確認申請書（建築）入力'!$M$4=0,"",'確認申請書（建築）入力'!$M$4) -> 指定確認検査機関 株式会社東日本住宅評価センター 様
W17: =IF(作業メニュー!AM13=TRUE, "第", "") | AB17: =IF(作業メニュー!AM13=TRUE, "号", "")
U19: 年 月 日
P24: =IF(項目一覧!$C$183=0,"",項目一覧!$C$183)
J25: =IF(作業メニュー!AM13=TRUE, " 通 知 者 官 職", " 申 請 者 氏 名") -> 申 請 者 氏 名 | P25: =IF(項目一覧!$C$4=0,"",項目一覧!$C$4)
D32: =IF(作業メニュー!AM13=TRUE, "[計画を変更する工作物の直前の審査]", "[計画を変更する工作物の直前の確認]") -> [計画を変更する工作物の直前の確認]
E33: [確認済証番号] | K33: 第東日本 | T33: 号
E34: [確認済証交付年月日] | N34: 年 | Q34: 月 | T34: 日
E35: [確認済証交付者] | K35: 株式会社 東日本住宅評価センター
E36: [計画変更の概要]
B38: ※ 受付欄 | I38: ※ 決裁欄 | U38: ※ 確認番号欄
I39: 別紙による | U39: 年 月 日
U40: 第 東日本 号
U41: 日付、番号は別紙による
A48: （第二面）
A49: [ | B49: １． 築造主 ]
B50: [ｲ． 氏名のフリガナ] | G50: =IF(項目一覧!$C$21=0,"",項目一覧!$C$21&" ")&IF(項目一覧!$C$5=0,"",項目一覧!$C$5)
B51: [ﾛ． 氏名] | G51: =IF(項目一覧!$C$183=0,"",項目一覧!$C$183&" ")&IF(項目一覧!$C$4=0,"",項目一覧!$C$4)
B52: [ﾊ． 郵便番号] | G52: =IF(項目一覧!$C$6=0,"",項目一覧!$C$6)
B53: [ﾆ． 住所] | G53: =IF(項目一覧!$C$7=0,"",項目一覧!$C$7)
B54: [ﾎ． 電話番号] | G54: =IF(項目一覧!$C$8=0,"",項目一覧!$C$8)
A55: [ | B55: ２． 代理者 ]
B56: [ｲ． 資格] | G56: =IF(項目一覧!$C$9=0,"","("&項目一覧!$C$9&") 建築士 （"&項目一覧!$C$10&"）登録 第 "&項目一覧!$C$11&" 号") -> () 建築士 （）登録 第 号
B57: [ﾛ． 氏名] | G57: =IF(項目一覧!$C$12=0,"",項目一覧!$C$12)
B58: [ﾊ． 建築士事務所名] | G58: =IF(項目一覧!$C$13=0,"","("&項目一覧!$C$13&") 建築士事務所 （"&項目一覧!$C$14&"）知事登録 第 "&項目一覧!$C$15&" 号") -> () 建築士事務所 （）知事登録 第 号
G59: =IF(項目一覧!$C$16=0,"",項目一覧!$C$16)
B60: [ﾆ． 郵便番号] | G60: =IF(項目一覧!$C$17=0,"",項目一覧!$C$17)
B61: [ﾎ． 所在地] | G61: =IF(項目一覧!$C$18=0,"",項目一覧!$C$18)
B62: [ﾍ． 電話番号] | G62: =IF(項目一覧!$C$19=0,"",項目一覧!$C$19)
A63: [ | B63: ３． 設計者 ]
B64: （代表となる設計者）
B65: [ｲ． 資格] | G65: =IF(項目一覧!$C$22=0,"","("&項目一覧!$C$22&") 建築士 （"&項目一覧!$C$23&"）登録 第 "&項目一覧!$C$24&" 号") -> () 建築士 （）登録 第 号
B66: [ﾛ． 氏名] | G66: =IF(項目一覧!$C$25=0,"",項目一覧!$C$25)
B67: [ﾊ． 建築士事務所名] | G67: =IF(項目一覧!$C$27=0,"","("&項目一覧!$C$27&") 建築士事務所 （"&項目一覧!$C$28&"）知事登録 第 "&項目一覧!$C$29&" 号") -> () 建築士事務所 （）知事登録 第 号
...

Sheet 築造計画概要書
A1: 築造計画概要書 | Q1: 作業メニュー | U1: ※直接入力してください
B3: 第十二号様式 | M3: ※受付欄 | U3: ※確認済証番号
B4: （第三条、第三条の三、第十一条の三関係）
U5: 年 月 日
U7: 第 東日本
AA8: 号
A10: 築造計画概要書 （第一面）
A12: [ | B12: １． 築造主 ] | AE12: 築造主ごとに住所が異なる場合に対応しておりません。
B13: [ｲ． 氏名のフリガナ] | H13: =建築主氏名１フリガナ | AE13: 左側画面に上書きで入力し、修正してください。
B14: [ﾛ． 氏名] | H14: =建築主氏名１
B15: [ﾊ． 郵便番号] | H15: =建築主郵便番号 | AE15: －－－以下は「他の建築主」より参照－－－
B16: [ﾆ． 住所] | H16: =建築主住所 | AF16: （１）
AF17: =建築主氏名2フリガナ
A18: [ | B18: ２． 代理者 ] | AF18: =建築主氏名2
B19: [ｲ． 資格] | H19: ="("&代理者資格&") 建築士 （"&代理者登録種類&"）登録 第 "&代理者登録番号&" 号" -> () 建築士 （）登録 第 号 | AF19: =建築主郵便番号2
B20: [ﾛ． 氏名] | H20: =代理者氏名 | AF20: =建築主住所2
B21: [ﾊ． 建築士事務所名] | H21: ="("&代理者事務所名資格&") 建築士事務所 （"&代理者事務所名登録種類&"）知事登録 第 "&代理者事務所登録番号&" 号" -> () 建築士事務所 （）知事登録 第 号 | AF21: （２）
H22: =代理者事務所名 | AF22: =建築主氏名3フリガナ
B23: [ﾆ． 郵便番号] | H23: =代理者郵便番号 | AF23: =建築主氏名3
B24: [ﾎ． 所在地] | H24: =代理者所在地 | AF24: =建築主郵便番号3
B25: [ﾍ． 電話番号] | H25: =代理者電話番号 | AF25: =建築主住所3
A26: [ | B26: ３． 設計者 ] | AF26: （３）
B27: （代表となる設計者） | AF27: =建築主氏名4フリガナ
B28: [ｲ． 資格] | H28: ="("&設計者資格&") 建築士 （"&設計者登録種類&"）登録 第 "&設計者登録番号&" 号" -> () 建築士 （）登録 第 号 | AF28: =建築主氏名4
B29: [ﾛ． 氏名] | H29: =設計者氏名 | AF29: =建築主郵便番号4
B30: [ﾊ． 建築士事務所名] | H30: ="("&設計者事務所名資格&") 建築士事務所 （"&設計者事務所名登録種類&"）知事登録 第 "&設計者事務所登録番号&" 号" -> () 建築士事務所 （）知事登録 第 号 | AF30: =建築主住所4
H31: =設計者事務所名
B32: [ﾆ． 郵便番号] | H32: =設計者郵便番号
B33: [ﾎ． 所在地] | H33: =項目一覧!$C$32
B34: [ﾍ． 電話番号] | H34: =設計者電話番号
B35: [ﾄ． 作成した設計図書] | H35: =項目一覧!$C$35
B37: （その他の設計者）
B38: [ｲ． 資格] | H38: ="("&設計者資格その他１&") 建築士 （"&設計者登録種類その他１&"）登録 第 "&設計者登録番号その他１&" 号" -> () 建築士 （）登録 第 号
B39: [ﾛ． 氏名] | H39: =設計者氏名その他１
B40: [ﾊ． 建築士事務所名] | H40: ="("&設計者事務所名資格その他１&") 建築士事務所 （"&設計者事務所名登録種類その他１&"）知事登録 第 "&設計者事務所登録番号その他１&" 号" -> () 建築士事務所 （）知事登録 第 号
H41: =設計者事務所名その他１
B42: [ﾆ． 郵便番号] | H42: =設計者郵便番号その他１
B43: [ﾎ． 所在地] | H43: =項目一覧!$C$199
B44: [ﾍ． 電話番号] | H44: =設計者電話番号その他１
B45: [ﾄ． 作成した設計図書] | H45: =項目一覧!$C$202
...

Sheet 計画変更（工作物） (2)
A1: 計画変更確認申請書（工作物２） | Q1: 作業メニュー | AD1: ※直接入力してください
B3: =IF(作業メニュー!AM13=TRUE, "第四十二号の十二様式（第八条の二の六関係）（Ａ４） ", "第十四号様式（第三条、第三条の三関係）") -> 第十四号様式（第三条、第三条の三関係）
D4: =IF(作業メニュー!AM13=TRUE, "建築基準法第88条第２項において準用する同法第18条第２項又は第４項の規定による ", "")
B5: =IF(作業メニュー!AM13=TRUE, "計画変更通知書 （工作物）", "計画変更確認申請書 （工作物）") -> 計画変更確認申請書 （工作物）
N7: （第一面）
C9: =IF(作業メニュー!AM13=TRUE, " 建築基準法第88条第２項において準用する同法第18条第２項又は第４項の規定により計画の変更を通知します。", " 建築基準法第８８条第２項において準用する同法第６条第１項又は第６条の２第１項の規定による計画の変更の確認を申請します。この申請書及び添付図書に記載の事項は、事実に相違ありません。") -> 建築基準法第８８条第２項において準用する同法第６条第１項又は第６条の２第１項の規定による計画の変更の確認を申請します。この申請書及び添付図書に記載の事項は、事実に相違ありません。
B16: =IF('確認申請書（建築）入力'!$M$4=0,"",'確認申請書（建築）入力'!$M$4) -> 指定確認検査機関 株式会社東日本住宅評価センター 様
W17: =IF(作業メニュー!AM13=TRUE, "第", "") | AB17: =IF(作業メニュー!AM13=TRUE, "号", "")
U19: 年 月 日
P25: =IF(項目一覧!$C$183=0,"",項目一覧!$C$183)
J26: =IF(作業メニュー!AM13=TRUE, " 通 知 者 官 職", " 申 請 者 氏 名") -> 申 請 者 氏 名 | P26: =IF(項目一覧!$C$4=0,"",項目一覧!$C$4)
D33: =IF(作業メニュー!AM13=TRUE, "[計画を変更する工作物の直前の審査]", "[計画を変更する工作物の直前の確認]") -> [計画を変更する工作物の直前の確認]
E34: [確認済証番号] | K34: 第東日本 | T34: 号
E35: [確認済証交付年月日] | N35: 年 | Q35: 月 | T35: 日
E36: [確認済証交付者] | K36: 株式会社 東日本住宅評価センター
E37: [計画変更の概要]
B39: ※ 受付欄 | I39: ※ 決裁欄 | U39: ※ 確認番号欄
I40: 別紙による | U40: 年 月 日
U41: 第 東日本 号
U42: 日付、番号は別紙による
A49: （第二面）
A50: [ | B50: １． 築造主 ]
B51: [ｲ． 氏名のフリガナ] | G51: =IF(項目一覧!$C$21=0,"",項目一覧!$C$21&" ")&IF(項目一覧!$C$5=0,"",項目一覧!$C$5)
B52: [ﾛ． 氏名] | G52: =IF(項目一覧!$C$183=0,"",項目一覧!$C$183&" ")&IF(項目一覧!$C$4=0,"",項目一覧!$C$4)
B53: [ﾊ． 郵便番号] | G53: =IF(項目一覧!$C$6=0,"",項目一覧!$C$6)
B54: [ﾆ． 住所] | G54: =IF(項目一覧!$C$7=0,"",項目一覧!$C$7)
B55: [ﾎ． 電話番号] | G55: =IF(項目一覧!$C$8=0,"",項目一覧!$C$8)
A56: [ | B56: ２． 代理者 ]
B57: [ｲ． 資格] | G57: =IF(項目一覧!$C$9=0,"","("&項目一覧!$C$9&") 建築士 （"&項目一覧!$C$10&"）登録 第 "&項目一覧!$C$11&" 号") -> () 建築士 （）登録 第 号
B58: [ﾛ． 氏名] | G58: =IF(項目一覧!$C$12=0,"",項目一覧!$C$12)
B59: [ﾊ． 建築士事務所名] | G59: =IF(項目一覧!$C$13=0,"","("&項目一覧!$C$13&") 建築士事務所 （"&項目一覧!$C$14&"）知事登録 第 "&項目一覧!$C$15&" 号") -> () 建築士事務所 （）知事登録 第 号
G60: =IF(項目一覧!$C$16=0,"",項目一覧!$C$16)
B61: [ﾆ． 郵便番号] | G61: =IF(項目一覧!$C$17=0,"",項目一覧!$C$17)
B62: [ﾎ． 所在地] | G62: =IF(項目一覧!$C$18=0,"",項目一覧!$C$18)
B63: [ﾍ． 電話番号] | G63: =IF(項目一覧!$C$19=0,"",項目一覧!$C$19)
A64: [ | B64: ３． 設計者 ]
B65: （代表となる設計者）
B66: [ｲ． 資格] | G66: =IF(項目一覧!$C$22=0,"","("&項目一覧!$C$22&") 建築士 （"&項目一覧!$C$23&"）登録 第 "&項目一覧!$C$24&" 号") -> () 建築士 （）登録 第 号
B67: [ﾛ． 氏名] | G67: =IF(項目一覧!$C$25=0,"",項目一覧!$C$25)
B68: [ﾊ． 建築士事務所名] | G68: =IF(項目一覧!$C$27=0,"","("&項目一覧!$C$27&") 建築士事務所 （"&項目一覧!$C$28&"）知事登録 第 "&項目一覧!$C$29&" 号") -> () 建築士事務所 （）知事登録 第 号
...

Sheet 仮使用認定申請書印刷
B1: 仮使用認定申請書 印刷 | AD1: ※直接入力してください。
X2: 作業メニュー
A4: =IF(作業メニュー!AM13=TRUE, "第四十二号の二十一様式（第八条の二の二関係）（Ａ４）", "第三十四号様式（第四条の十六関係）（Ａ４）") -> 第三十四号様式（第四条の十六関係）（Ａ４）
A7: 仮使用認定申請書
A8: （第一面）
A13: =IF(作業メニュー!AM13=TRUE, " 建築基準法第18条第38項第２号（同法第87条の４又は第88条第１項若しくは第２項において準用する場合を含む。）の規定による仮使用の認定を申請します。", " 建築基準法第７条の６第１項第2号（同法第87条の４第１項又は第88条第１項若しくは第２項において準用する場合を含む。）の規定による仮使用の認定を申請します。") -> 建築基準法第７条の６第１項第2号（同法第87条の４第１項又は第88条第１項若しくは第２項において準用する場合を含む。）の規定による仮使用の認定を申請します。
A17: 指定確認検査機関 株式会社東日本住宅評価センター 様
V21: =IF(作業メニュー!AM13=TRUE, "第", "") | AB21: =IF(作業メニュー!AM13=TRUE, "号", "")
T22: 年 月 日
P26: =項目一覧!$C$183
J27: =IF(作業メニュー!AM13=TRUE, " 申 請 者 官 職", " 申 請 者 氏 名") -> 申 請 者 氏 名 | P27: =建築主氏名１
A33: 【仮使用の認定を申請する建築物等】
B34: □ | C34: 建築物 | J34: □ | K34: 建築設備（昇降機） | T34: □ | U34: 建築設備（昇降機以外）
B35: □ | C35: 工作物（昇降機） | J35: □ | K35: 工作物（法第88条第１項） | T35: □ | U35: 工作物（法第88条第２項）
A38: ※受付欄 | H38: ※決裁欄 | O38: ※認定番号 | V38: ※特記
H39: 別紙による | O39: 年 月 日
O41: 第仮使
U42: 号
O43: 日付、番号は別紙による
A48: （第二面）
A50: 【1.建築主、設置者又は築造主】
B51: 【ｲ.氏名のﾌﾘｶﾞﾅ】 | G51: =建築主氏名１フリガナ
B52: 【ﾛ.氏名】 | G52: =建築主氏名１
B53: 【ﾊ.郵便番号】 | G53: =建築主郵便番号
B54: 【ﾆ.住所】 | G54: =建築主住所
B55: 【ﾎ.電話番号】 | G55: =建築主電話番号
A57: 【2.代理者】
B58: 【ｲ.資格】 | H58: ="("&代理者資格&") 建築士 （"&代理者登録種類&"）登録 第 "&代理者登録番号&" 号" -> () 建築士 （）登録 第 号
B59: 【ﾛ.氏名】 | H59: =代理者氏名
B60: 【ﾊ.建築士事務所名】 | H60: ="("&代理者事務所名資格&") 建築士事務所 （"&代理者事務所名登録種類&"）知事登録 第 "&代理者事務所登録番号&" 号" -> () 建築士事務所 （）知事登録 第 号
H61: =代理者事務所名
B62: 【ﾆ.郵便番号】 | H62: =代理者郵便番号
B63: 【ﾎ.所在地】 | H63: =代理者所在地
B64: 【ﾍ.電話番号】 | H64: =代理者電話番号
A66: 【3.建築確認】
B67: 【ｲ.確認済証番号】 | J67: 第 | S67: 号
B68: 【ﾛ.確認済証交付年月日】 | J68: 年 月 日
B69: 【ﾊ.確認済証交付者】
A71: 【4.敷地の位置】
B72: 【ｲ.地名地番】 | F72: =地名地番県&地名地番市町&地名地番その他
...

Sheet 軽微な変更説明書
A1: 軽微な変更説明書 | R1: 作業メニュー | Y1: ※直接入力してください
A2: 様式C－05
A3: 軽微な変更説明書
A4: （完了検査申請書第３面10.欄、中間検査申請書第３面11.欄 別紙）
A7: 下記について、確認済証又は中間検査合格証の交付を受けた日以降に建築基準法施行規則第３条の２に
A8: 規定される軽微な変更がありますので、当該変更の内容を下記の通り説明します。
